BEGIN:VCALENDAR
VERSION:2.0
PRODID:-//ChamberMaster//Event Calendar 2.0//EN
METHOD:PUBLISH
X-PUBLISHED-TTL:P3D
REFRESH-INTERVAL:P3D
CALSCALE:GREGORIAN
BEGIN:VEVENT
DTSTART:20080627T040000Z
DTEND:20080627T040000Z
X-MICROSOFT-CDO-ALLDAYEVENT:FALSE
SUMMARY:Ribbon Cutting - River Merrimack Grille
DESCRIPTION:River Merrimack Grille\nRibbon Cutting Ceremony\nFriday\, June 27th\n4:00pmYou're Invited!Join us for a special Ribbon Cutting ceremony to celebrate the\nGrand Opening of River Merrimack Grille in the Tannery in downtown Newburyport.Hors d'oeuvres\nLocation:\nThe Tannery\, 50 Water Street\, downtown Newburyport\, MA \nRSVP  978-462-6680 x14
X-ALT-DESC;FMTTYPE=text/html:<P><STRONG>River Merrimack Grille</STRONG><BR>Ribbon Cutting Ceremony<BR>Friday\, June 27th<BR>4:00pm</P><P><STRONG>You're Invited!</STRONG></P><P>Join us for a special Ribbon Cutting ceremony to celebrate the<BR>Grand Opening of River Merrimack Grille in the Tannery in downtown Newburyport.</P><P>Hors d'oeuvres<BR><STRONG>Location:</STRONG><BR>The Tannery\, 50 Water Street\,&nbsp\;downtown Newburyport\, MA <BR>RSVP&nbsp\; 978-462-6680 x14</P><P><A href="http://www.josephswinterstcafe.com"></A>&nbsp\;</P>
LOCATION:River Merrimack Grille
UID:e.1189.985
SEQUENCE:3
DTSTAMP:20260422T194827Z
URL:https://business.newburyportchamber.org/events/details/ribbon-cutting-river-merrimack-grille-06-27-2008-985
END:VEVENT

END:VCALENDAR
