BEGIN:VCALENDAR
VERSION:2.0
PRODID:-//ChamberMaster//Event Calendar 2.0//EN
METHOD:PUBLISH
X-PUBLISHED-TTL:P3D
REFRESH-INTERVAL:P3D
CALSCALE:GREGORIAN
BEGIN:VEVENT
DTSTART:20110921T200000Z
DTEND:20110921T230000Z
X-MICROSOFT-CDO-ALLDAYEVENT:FALSE
SUMMARY:Ribbon Cutting - Positive Works Studio
DESCRIPTION:Positive Works Studio\n\n\n\nCelebrate the grand opening with Karen Ortiz\, owner of this new downtown studio.  Enjoy hors d'oeuvres and a special ribbon cutting ceremony with the Chamber and Mayor Holaday. Open to Chamber members and the general public.\n\n\n\nPositive Works is a Pilates\, Gyrotonic\, Massage studio. It is guided by the philosophy and dedicated to health\, wellness\, and education of the body\, mind and spirit.\n\n\n\n  www.positiveworksstudio.com
X-ALT-DESC;FMTTYPE=text/html:<br />\n<span style="color:#008080\;"><span style="font-size: 14px\;"><strong>Positive Works Studio</strong></span></span><br />\n<br />\nCelebrate the grand opening with Karen Ortiz\, owner of this new downtown studio.&nbsp\; Enjoy hors d&#39\;oeuvres and&nbsp\;a special&nbsp\;ribbon cutting ceremony with the&nbsp\;Chamber&nbsp\;and Mayor Holaday. Open to&nbsp\;Chamber&nbsp\;members and the general public.<br />\n<br />\nPositive Works is a Pilates\, Gyrotonic\, Massage studio. It is guided by the philosophy and dedicated to health\, wellness\, and education of the body\, mind and spirit.<br />\n<br />\n<span style="color:#008080\;"> <strong> www.positiveworksstudio.com</strong></span>
LOCATION:10 Prince Place Suite 203 Downtown Newburyport Prince Place is off State Street. Turn right onto Prince just before the public library.
UID:e.1189.2189
SEQUENCE:3
DTSTAMP:20260419T225550Z
URL:https://business.newburyportchamber.org/events/details/ribbon-cutting-positive-works-studio-09-21-2011-2189
END:VEVENT

END:VCALENDAR
