BEGIN:VCALENDAR
VERSION:2.0
PRODID:-//ChamberMaster//Event Calendar 2.0//EN
METHOD:PUBLISH
X-PUBLISHED-TTL:P3D
REFRESH-INTERVAL:P3D
CALSCALE:GREGORIAN
BEGIN:VEVENT
DTSTART:20090402T040000Z
DTEND:20090402T040000Z
X-MICROSOFT-CDO-ALLDAYEVENT:FALSE
SUMMARY:Ribbon Cutting - Port Tavern
DESCRIPTION:The Port TavernRibbon Cutting Ceremony\nThursday\, April 2\, 4pmYou're Invited!Join us for a special Ribbon Cutting ceremony to celebrate the Grand Opening of The Port Tavern. Introductions and welcoming remarks at 4pm\, followed by a special ribbon cutting with Mayor John Moak and the Chamber of Commerce.Location:\n84 State Stree\, Newburyport\nRSVP online or call  (978) 462-6680 x13
X-ALT-DESC;FMTTYPE=text/html:<FONT color=#000000><STRONG><P><STRONG><FONT color=#ff0000><FONT color=#ff0000></FONT>The Port Tavern</FONT></STRONG></P><P>Ribbon Cutting Ceremony<BR>Thursday\, April 2\, 4pm</P><P><STRONG>You're Invited!</STRONG></P><P>Join us for a special <STRONG><FONT color=#ff0000>Ribbon Cutting</FONT></STRONG> ceremony to celebrate the&nbsp\;Grand Opening of The Port Tavern. Introductions and welcoming remarks at <FONT color=#ff0000>4pm\,</FONT> followed by a special ribbon cutting with Mayor John Moak and the Chamber of Commerce.</P><P><STRONG>Location:</STRONG><BR>84 State Stree\, Newburyport<BR>RSVP online or call&nbsp\; (978) 462-6680 x13</P></STRONG></FONT>
LOCATION:Port Tavern
UID:e.1189.1198
SEQUENCE:3
DTSTAMP:20260422T041936Z
URL:https://business.newburyportchamber.org/events/details/ribbon-cutting-port-tavern-04-02-2009-1198
END:VEVENT

END:VCALENDAR
