BEGIN:VCALENDAR
VERSION:2.0
PRODID:-//ChamberMaster//Event Calendar 2.0//EN
METHOD:PUBLISH
X-PUBLISHED-TTL:P3D
REFRESH-INTERVAL:P3D
CALSCALE:GREGORIAN
BEGIN:VEVENT
DTSTART:20120209T210000Z
DTEND:20120209T220000Z
X-MICROSOFT-CDO-ALLDAYEVENT:FALSE
SUMMARY:Ribbon Cutting - Port City Sandwich Company
DESCRIPTION:Ribbon Cutting & Grand Opening\n\n\n\nPort City Sandwich Company invites you to celebrate their grand opening at Brown's Wharf! Stop in and enjoy free samples of their delicious menu. Port City Sandwich Co.\, a family owned business\, serves breakfast and lunch - all fresh and homemade daily. It's not just your average deli!  Owner Tyke Karopoulos was formerly the Assistant General Manager and Wine Director at The Capital Grille in Boston.\n\n\n\nOfficial ribbon cutting with Mayor Donna Holaday and the Chamber. Open to all members and the public. \n\n \n\nPlease join us and welcome Tyke and his family!
X-ALT-DESC;FMTTYPE=text/html:<strong><span style="color: #ff0000">Ribbon Cutting &amp\; Grand Opening</span></strong><br />\n<br />\nPort City Sandwich Company invites you to celebrate their grand opening at Brown&#39\;s Wharf! Stop in and enjoy free samples of their delicious menu. Port City Sandwich Co.\, a family owned business\, serves breakfast and lunch - all fresh and homemade daily.&nbsp\;It&#39\;s not&nbsp\;just your average deli! &nbsp\;Owner Tyke Karopoulos was formerly the Assistant General Manager and Wine Director at The Capital Grille in Boston.<br />\n<br />\nOfficial ribbon cutting with Mayor Donna Holaday and the Chamber.&nbsp\;Open to all members and the public.&nbsp\;<br />\n&nbsp\;<br />\nPlease join us and welcome Tyke and his family!
LOCATION:Brown's Wharf 40R Merrimac Street Right next door to the Chamber office.
UID:e.1189.2721
SEQUENCE:3
DTSTAMP:20260419T125358Z
URL:https://business.newburyportchamber.org/events/details/ribbon-cutting-port-city-sandwich-company-02-09-2012-2721
END:VEVENT

END:VCALENDAR
