BEGIN:VCALENDAR
VERSION:2.0
PRODID:-//ChamberMaster//Event Calendar 2.0//EN
METHOD:PUBLISH
X-PUBLISHED-TTL:P3D
REFRESH-INTERVAL:P3D
CALSCALE:GREGORIAN
BEGIN:VEVENT
DTSTART:20081211T050000Z
DTEND:20081211T050000Z
X-MICROSOFT-CDO-ALLDAYEVENT:FALSE
SUMMARY:Ribbon Cutting - Petit Bijou
DESCRIPTION:Petit Bijou\nRibbon Cutting Ceremony\nFriday\, September 12\n4pmYou're Invited!\nJoin us for a special Ribbon Cutting ceremony to celebrate the Grand Opening of Petit Bijou. \n\nIntroductions and welcoming remarks at 4pm\, followed by a special ribbon cutting with Mayor John Moak and the Chamber of Commerce.Light refreshments will be served.\nFree and open to the public and all members.\nLocation:\n10 State Street\, downtown Newburyport\nRSVP online or call  (978) 462-6680 x14
X-ALT-DESC;FMTTYPE=text/html:<P><STRONG><FONT color=#ff0000><FONT color=#ff0000>Petit Bijou</FONT><BR></FONT></STRONG>Ribbon Cutting Ceremony<BR>Friday\, September 12<BR>4pm</P><P><STRONG>You're Invited!</STRONG><BR>Join us for a special <STRONG><FONT color=#ff0000>Ribbon Cutting</FONT></STRONG> ceremony to celebrate the&nbsp\;Grand Opening of Petit Bijou.&nbsp\;<BR><BR>Introductions and welcoming remarks at 4pm\, followed by a special ribbon cutting with Mayor John Moak and the Chamber of Commerce.</P><P>Light refreshments will be served.<BR>Free and open to the public and all members.<BR></P><P><STRONG>Location:</STRONG><BR>10 State Street\, downtown Newburyport<BR>RSVP online or call&nbsp\; (978) 462-6680 x14</P><P><A href="http://www.josephswinterstcafe.com"></A>&nbsp\;</P>
LOCATION:Nicole Marie
UID:e.1189.1097
SEQUENCE:3
DTSTAMP:20260422T112239Z
URL:https://business.newburyportchamber.org/events/details/ribbon-cutting-petit-bijou-12-11-2008-1097
END:VEVENT

END:VCALENDAR
