BEGIN:VCALENDAR
VERSION:2.0
PRODID:-//ChamberMaster//Event Calendar 2.0//EN
METHOD:PUBLISH
X-PUBLISHED-TTL:P3D
REFRESH-INTERVAL:P3D
CALSCALE:GREGORIAN
BEGIN:VEVENT
DTSTART:20111018T200000Z
DTEND:20111018T220000Z
X-MICROSOFT-CDO-ALLDAYEVENT:FALSE
SUMMARY:Ribbon Cutting\, Open House\, & Reception
DESCRIPTION:Open House\, Reception & Ribbon Cutting\n\n\n\nBarry and Rhonda of The Lenair Self (s) Healing Center invite you to an open house to network with fellow chamber members and tour their Sanctuary and Healing Center. The Sanctuary is the home of The Lenair Self(s) Healing Center\, Self(s) Healing Celebrations & Retreat\, and the Lenair Healing Foundation. Stroll through the beautiful and peaceful gardens of the Sanctuary and learn about what they provide to their clients. After living and practicing in Vermont for 8 years\, they have returned to their Newbury home and heailng space and are anxious to again be a part of and offer their services to the community.\n\n\n\nA Ribbon Cutting will be held with Mayor Donna Holaday and Chamber representatives.\n\n\n\nLight refreshments will be served.\n\nFree gift coupon for all attendees.\n\n\n\nBring your business promotional materials for the share table.\n\n\n\nParking available on street.
X-ALT-DESC;FMTTYPE=text/html:<span style="color: #ff8c00"><span style="font-size: 12px"><strong>Open House\, Reception &amp\; Ribbon Cutting</strong></span></span><br />\n<br />\nBarry and Rhonda of The Lenair Self (s) Healing Center invite you to an open house to network with fellow chamber members and tour their Sanctuary and Healing Center. The Sanctuary is the home of The Lenair Self(s) Healing Center\, Self(s) Healing Celebrations &amp\; Retreat\, and the Lenair Healing Foundation. Stroll through the beautiful and peaceful gardens of the Sanctuary and learn about what they provide to their clients. After living and practicing in Vermont for 8 years\, they have returned to their Newbury home and heailng space and are anxious to again be a part of and offer their services to the community.<br />\n<br />\nA Ribbon Cutting will be held with Mayor Donna Holaday and Chamber representatives.<br />\n<br />\nLight refreshments will be served.<br />\nFree gift coupon for all attendees.<br />\n<br />\n<strong><span style="color: #800080">Bring your business promotional materials for the share table.<br />\n<br />\nParking available on street.</span></strong><br />\n<br />\n
LOCATION:75 Scotland Road Newbury\, MA Parking available on street.
UID:e.1189.2199
SEQUENCE:3
DTSTAMP:20260419T191413Z
URL:https://business.newburyportchamber.org/events/details/ribbon-cutting-open-house-reception-10-18-2011-2199
END:VEVENT

END:VCALENDAR
