BEGIN:VCALENDAR
VERSION:2.0
PRODID:-//ChamberMaster//Event Calendar 2.0//EN
METHOD:PUBLISH
X-PUBLISHED-TTL:P3D
REFRESH-INTERVAL:P3D
CALSCALE:GREGORIAN
BEGIN:VEVENT
DTSTART:20080626T040000Z
DTEND:20080626T040000Z
X-MICROSOFT-CDO-ALLDAYEVENT:FALSE
SUMMARY:Ribbon Cutting - Nicole Marie
DESCRIPTION:Nicoel Marie\nRibbon Cutting Ceremony\nThursday\, June 26th\n5:00pmYou're Invited!\nJoin us for a special Ribbon Cutting ceremony to celebrate the Grand Opening of Nicole Marie. Newburyport's newest women's clothing boutique.\n\nIntroductions and welcoming remarks at 5pm\, followed by a special ribbon cutting with Mayor John Moak and the Chamber of Commerce.Refreshments will be served.\nLocation:\nState Street\, downtown Newburyport\n\nRSVP  (978) 462-6680 x14
X-ALT-DESC;FMTTYPE=text/html:<P><STRONG><FONT color=#ff0000><FONT color=#ff0080>Nicoel Marie</FONT><BR></FONT></STRONG>Ribbon Cutting Ceremony<BR>Thursday\, June 26th<BR>5:00pm</P><P><STRONG>You're Invited!</STRONG><BR>Join us for a special <STRONG><FONT color=#ff0080>Ribbon Cutting</FONT></STRONG> ceremony to celebrate the Grand Opening of Nicole Marie. Newburyport's newest women's clothing boutique.<BR><BR>Introductions and welcoming remarks at 5pm\, followed by a special ribbon cutting with Mayor John Moak and the Chamber of Commerce.</P><P>Refreshments will be served.<BR><STRONG>Location:</STRONG><BR>State&nbsp\;Street\, downtown Newburyport<BR><BR>RSVP&nbsp\; (978) 462-6680 x14</P><P><A href="http://www.josephswinterstcafe.com"></A>&nbsp\;</P>
LOCATION:Nicoel Marie
UID:e.1189.986
SEQUENCE:3
DTSTAMP:20260422T194728Z
URL:https://business.newburyportchamber.org/events/details/ribbon-cutting-nicole-marie-06-26-2008-986
END:VEVENT

END:VCALENDAR
