BEGIN:VCALENDAR
VERSION:2.0
PRODID:-//ChamberMaster//Event Calendar 2.0//EN
METHOD:PUBLISH
X-PUBLISHED-TTL:P3D
REFRESH-INTERVAL:P3D
CALSCALE:GREGORIAN
BEGIN:VEVENT
DTSTART:20091117T050000Z
DTEND:20091117T050000Z
X-MICROSOFT-CDO-ALLDAYEVENT:FALSE
SUMMARY:Ribbon Cutting - Newburyport Medical Center
DESCRIPTION:You're Invited!\nJoin us for a ribbon cutting at the new Newburyport Medical Center.  A reception and tours of the building and new practices will be conducted following the ribbon cutting.Location:\nNewburyport Medical Center\nOne Wallace Bashaw Jr. Way\, Newburyport
X-ALT-DESC;FMTTYPE=text/html:<FONT color=#ff0000><P><FONT color=#000000></FONT></P><P></FONT><FONT face=Arial color=#0f0f0f size=2>You're Invited!<BR>Join us for a ribbon cutting at the new </FONT><FONT face=Arial color=#0f0f0f size=2>Newburyport Medical Center.&nbsp\; A reception and </FONT><FONT face=Arial color=#0f0f0f size=2>tours of the building and new practices will </FONT><FONT face=Arial color=#0f0f0f size=2>be conducted following the ribbon cutting.</FONT><FONT face=Arial color=#0f0f0f size=2></FONT></P><P><FONT color=#0000ff><FONT face=Arial color=#0f0f0f size=2>Location:<BR>Newburyport Medical Center<BR>One Wallace Bashaw Jr. Way\, Newburyport</FONT> </FONT><A href="http://www.josephswinterstcafe.com"></A></P>
LOCATION:Newburyport Medical Center
UID:e.1189.1343
SEQUENCE:3
DTSTAMP:20260421T170542Z
URL:https://business.newburyportchamber.org/events/details/ribbon-cutting-newburyport-medical-center-11-17-2009-1343
END:VEVENT

END:VCALENDAR
