BEGIN:VCALENDAR
VERSION:2.0
PRODID:-//ChamberMaster//Event Calendar 2.0//EN
METHOD:PUBLISH
X-PUBLISHED-TTL:P3D
REFRESH-INTERVAL:P3D
CALSCALE:GREGORIAN
BEGIN:VEVENT
DTSTART:20100715T040000Z
DTEND:20100715T040000Z
X-MICROSOFT-CDO-ALLDAYEVENT:FALSE
SUMMARY:Ribbon Cutting - M.K. Winston Jewelers
DESCRIPTION:M.K. Winston JewelersRibbon Cutting Ceremony & 1st Anniversary Celebration\nThursday\, July 15\n4:00pmJoin fellow chamber members and Mayor Donna Holaday for a special Ribbon Cutting ceremony at M.K. Winston Jewelers (formerly named Keepsakes) celebrating their 1st Anniversary and new name change!\n\nLocation:\n11 State Street\, downtown NewburyportRSVP online or call  (978) 462-6680 x13* NOTE: M.K. Winston will also be holding a special blood drive on July 14 from 2:00 - 7:00pm at their store. Please give if you can.
X-ALT-DESC;FMTTYPE=text/html:<P><FONT color=#ff0000><STRONG><FONT color=#ff0000>M.K. Winston Jewelers</FONT></STRONG></P><P><FONT color=#000000>Ribbon Cutting Ceremony &amp\; 1st Anniversary Celebration<BR>Thursday\, July 15<BR>4:00pm</FONT></P><P><FONT color=#000000>Join fellow chamber members&nbsp\;and Mayor Donna Holaday for a special <FONT color=#000000>Ribbon Cutting ceremony</FONT> at&nbsp\;M.K. Winston Jewelers (formerly named&nbsp\;Keepsakes) celebrating their 1st Anniversary and new name change!<BR></FONT><FONT color=#000000><BR></FONT><FONT color=#000000>Location:<BR></FONT><FONT color=#000000>11 State&nbsp\;Street\, downtown Newburyport</FONT></P><P><FONT color=#000000>RSVP online or call&nbsp\; (978) 462-6680 x13</FONT></P><P><FONT color=#000000><FONT color=#0000ff><STRONG>* NOTE: M.K. Winston will also be holding a special blood&nbsp\;drive on July 14 from 2:00 - 7:00pm at their store.</STRONG></FONT> </FONT><FONT color=#0000ff><STRONG>Please give if you can.</STRONG></FONT></P></FONT>
LOCATION:M.K. Winston Jewelers
UID:e.1189.1585
SEQUENCE:3
DTSTAMP:20260421T013155Z
URL:https://business.newburyportchamber.org/events/details/ribbon-cutting-m-k-winston-jewelers-07-15-2010-1585
END:VEVENT

END:VCALENDAR
