BEGIN:VCALENDAR
VERSION:2.0
PRODID:-//ChamberMaster//Event Calendar 2.0//EN
METHOD:PUBLISH
X-PUBLISHED-TTL:P3D
REFRESH-INTERVAL:P3D
CALSCALE:GREGORIAN
BEGIN:VEVENT
DTSTART:20100517T040000Z
DTEND:20100517T040000Z
X-MICROSOFT-CDO-ALLDAYEVENT:FALSE
SUMMARY:Ribbon Cutting - Keller Williams Real Estate
DESCRIPTION:Keller Williams Realty Ribbon Cutting Ceremony\nMonday\, May 17\, 2010\n4:00pmYou're Invited!\nJoin us for a special Ribbon Cutting ceremony to celebrate the Grand Opening of Keller Williams Realty\n\nIntroductions and welcoming remarks at 4pm\, followed by a special ribbon cutting with Mayor Donna Holaday and the Chamber of Commerce.Light refreshments will be served.\nFree and open to the public and all members.\n                                                           \nLocation:\n1 Merrimack Street #6\, Newburyport\nRSVP online or call  (978) 462-6680 x13
X-ALT-DESC;FMTTYPE=text/html:<P><FONT color=#ff0000><FONT color=#000000><FONT color=#ff0000>Keller Williams Realty</FONT>&nbsp\;</FONT></P><P><FONT color=#000000>Ribbon Cutting Ceremony<BR>Monday\, May 17\, 2010<BR>4:00pm</FONT></P><FONT color=#000000><P><STRONG>You're Invited!</STRONG><BR>Join us for a special <STRONG><FONT color=#ff0000>Ribbon Cutting</FONT></STRONG> ceremony to celebrate the&nbsp\;Grand Opening of Keller Williams Realty<BR><BR>Introductions and welcoming remarks at 4pm\, followed by a special ribbon cutting with Mayor Donna Holaday and the Chamber of Commerce.</P><P>Light refreshments will be served.<BR>Free and open to the public and all members.<BR></P><P></FONT><FONT color=#000000><SPAN style="mso-spacerun: yes">&nbsp\;&nbsp\;&nbsp\;&nbsp\;&nbsp\;&nbsp\;&nbsp\;&nbsp\;</SPAN><SPAN style="mso-spacerun: yes">&nbsp\;&nbsp\;&nbsp\;&nbsp\;&nbsp\;&nbsp\;&nbsp\;&nbsp\;&nbsp\;&nbsp\;&nbsp\;&nbsp\;&nbsp\;&nbsp\;&nbsp\;&nbsp\;&nbsp\;&nbsp\;&nbsp\;&nbsp\;&nbsp\;&nbsp\;&nbsp\;&nbsp\;&nbsp\;&nbsp\;&nbsp\;&nbsp\;&nbsp\;&nbsp\;&nbsp\;&nbsp\;&nbsp\;&nbsp\;&nbsp\;&nbsp\;&nbsp\;&nbsp\;&nbsp\;&nbsp\;&nbsp\;&nbsp\;&nbsp\;&nbsp\;&nbsp\;&nbsp\;&nbsp\;&nbsp\;&nbsp\;&nbsp\;&nbsp\;</SPAN><BR></FONT><FONT color=#000000>Location:<BR></FONT><FONT color=#000000>1 Merrimack Street #6\, Newburyport</FONT><BR><FONT color=#000000>RSVP online or call&nbsp\; (978) 462-6680 x13</FONT></P></FONT><A href="http://www.josephswinterstcafe.com"></A>
LOCATION:Keller Williams Realty
UID:e.1189.1547
SEQUENCE:3
DTSTAMP:20260421T052118Z
URL:https://business.newburyportchamber.org/events/details/ribbon-cutting-keller-williams-real-estate-05-17-2010-1547
END:VEVENT

END:VCALENDAR
