BEGIN:VCALENDAR
VERSION:2.0
PRODID:-//ChamberMaster//Event Calendar 2.0//EN
METHOD:PUBLISH
X-PUBLISHED-TTL:P3D
REFRESH-INTERVAL:P3D
CALSCALE:GREGORIAN
BEGIN:VEVENT
DTSTART:20091118T050000Z
DTEND:20091118T050000Z
X-MICROSOFT-CDO-ALLDAYEVENT:FALSE
SUMMARY:Ribbon Cutting - Just Dogs! Gourmet
DESCRIPTION:You're Invited!\nRibbon Cutting CeremonyWednesday\, November 18\, 2009\nJoin fellow chamber members and Mayor John Moak for a special Ribbon Cutting ceremony to celebrate the Grand Opening of Just Dogs! Gourmet.\n\nLocation:\n\nJust Dogs! Gourmet\n37 Pleasant St. NewburyportRSVP  on-line or call 978-462-6680 x13
X-ALT-DESC;FMTTYPE=text/html:<FONT color=#ff0000><P><FONT color=#000000></FONT></P><P></FONT><FONT color=#0f0f0f><FONT color=#ff0000><EM><STRONG>You're Invited!<BR>Ribbon Cutting Ceremony</STRONG></EM></FONT></FONT></P><P><FONT color=#000000>Wednesday\, November 18\, 2009</FONT></P><FONT face=Arial color=#0f0f0f size=2><FONT color=#ff0000><EM><STRONG><P><BR></STRONG></EM></FONT></FONT><FONT color=#0f0f0f><FONT color=#000000>Join fellow chamber members&nbsp\;and Mayor John Moak&nbsp\;for a special Ribbon Cutting ceremony to celebrate the&nbsp\;Grand Opening of <FONT color=#0f0f0f>Just Dogs! Gourmet</FONT>.<BR></FONT><BR></FONT><FONT color=#0000ff><FONT face=Arial color=#0f0f0f size=2><FONT face="Times New Roman" size=3>Location:<BR></FONT><BR></FONT></FONT><FONT color=#0000ff>Just Dogs! Gourmet<BR>37 Pleasant St. Newburyport</FONT></P><P><FONT color=#ff0000>RSVP&nbsp\; on-line or call 978-462-6680 x13</FONT></P>
LOCATION:Just Dogs! Gourmet
UID:e.1189.1348
SEQUENCE:3
DTSTAMP:20260421T152821Z
URL:https://business.newburyportchamber.org/events/details/ribbon-cutting-just-dogs-gourmet-11-18-2009-1348
END:VEVENT

END:VCALENDAR
