BEGIN:VCALENDAR
VERSION:2.0
PRODID:-//ChamberMaster//Event Calendar 2.0//EN
METHOD:PUBLISH
X-PUBLISHED-TTL:P3D
REFRESH-INTERVAL:P3D
CALSCALE:GREGORIAN
BEGIN:VEVENT
DTSTART:20090108T050000Z
DTEND:20090108T050000Z
X-MICROSOFT-CDO-ALLDAYEVENT:FALSE
SUMMARY:Ribbon Cutting - Jen Wright Signs
DESCRIPTION:Jen Wright Signs\nRibbon Cutting Ceremony\nThursday\, January 8\n10amYou're Invited!\nJoin us for a special Ribbon Cutting ceremony to celebrate the Grand Opening of Jen Wright Signs at her new location.\n\nMayor John Moak and representatives from the Chamber of Commerce will cut the ceremonial ribbon.Location:\n97 Water Street\, Newburyport\nRSVP online or call  (978) 462-6680 x14
X-ALT-DESC;FMTTYPE=text/html:<P><STRONG><FONT color=#ff0000><FONT color=#ff0000></FONT>Jen Wright Signs<BR></FONT></STRONG>Ribbon Cutting Ceremony<BR>Thursday\, January 8<BR>10am</P><P><STRONG>You're Invited!</STRONG><BR>Join us for a special <STRONG><FONT color=#ff0000>Ribbon Cutting</FONT></STRONG> ceremony to celebrate the&nbsp\;Grand Opening of&nbsp\;Jen Wright Signs at her new location.<BR><BR>Mayor John Moak and representatives from the Chamber of Commerce will cut the ceremonial ribbon.</P><P><STRONG>Location:</STRONG><BR>97 Water Street\,&nbsp\;Newburyport<BR>RSVP online or call&nbsp\; (978) 462-6680 x14</P><P><A href="http://www.josephswinterstcafe.com"></A>&nbsp\;</P>
LOCATION:Jen Wright Signs
UID:e.1189.1112
SEQUENCE:3
DTSTAMP:20260422T074559Z
URL:https://business.newburyportchamber.org/events/details/ribbon-cutting-jen-wright-signs-01-08-2009-1112
END:VEVENT

END:VCALENDAR
