BEGIN:VCALENDAR
VERSION:2.0
PRODID:-//ChamberMaster//Event Calendar 2.0//EN
METHOD:PUBLISH
X-PUBLISHED-TTL:P3D
REFRESH-INTERVAL:P3D
CALSCALE:GREGORIAN
BEGIN:VEVENT
DTSTART:20101007T040000Z
DTEND:20101007T040000Z
X-MICROSOFT-CDO-ALLDAYEVENT:FALSE
SUMMARY:Ribbon Cutting - Helene M.
DESCRIPTION:Helene M. Ribbon Cutting Ceremony\nThursday\, October 7\, 2010\n4:00pmJoin us for a special Ribbon Cutting ceremony to celebrate the Grand Opening of Helene M.\, Newburyport's newest women's clothing boutique. Location:\n20 Pleasant Street\,  Newburyport\, MA\nRSVP online or call  (978) 462-6680 x13
X-ALT-DESC;FMTTYPE=text/html:<FONT color=#ff0000><FONT color=#000000><FONT color=#ff0000><P><P style="MARGIN: 0in 0in 0pt" class=MsoNormal><STRONG><SPAN style="FONT-FAMILY: Calibri\; COLOR: red\; FONT-SIZE: 14pt">Helene M. </SPAN></STRONG></P><P></P><P><FONT size=4><SPAN style="FONT-FAMILY: Calibri\; COLOR: black">Ribbon Cutting Ceremony<BR></SPAN><?xml:namespace prefix = st1 ns = "urn:schemas-microsoft-com:office:smarttags" /><st1:date Month="9" Day="16" Year="2010"><SPAN style="FONT-FAMILY: Calibri\; COLOR: black"><?xml:namespace prefix = u1 /><u1:date Month="9" Day="16" Year="2010">Thursday\, October 7\, 2010</SPAN></u1:date></st1:date></FONT><SPAN style="FONT-FAMILY: Calibri\; COLOR: black"><BR></SPAN><st1:time Hour="16" Minute="0"><SPAN style="FONT-FAMILY: Calibri"><u1:time Hour="16" Minute="0"><FONT color=#000000 size=4>4:00pm</FONT></SPAN></u1:time></st1:time><SPAN style="FONT-FAMILY: Calibri"><?xml:namespace prefix = o ns = "urn:schemas-microsoft-com:office:office" /><o:p></o:p></SPAN></P><P><FONT size=4><FONT color=#000000><SPAN style="FONT-FAMILY: Calibri">Join us for a special <STRONG><SPAN style="FONT-FAMILY: Calibri\; FONT-WEIGHT: normal\; mso-bidi-font-weight: bold">Ribbon Cutting</SPAN></STRONG> ceremony to celebrate the&nbsp\;Grand Opening of Helene M.\, Newburyport's newest women's clothing boutique.&nbsp\;</SPAN></FONT></FONT></P><P><FONT size=4><FONT color=#000000><SPAN style="FONT-FAMILY: Calibri"></SPAN></FONT></FONT><FONT size=4><SPAN style="FONT-FAMILY: Calibri\; COLOR: black">Location:<BR></SPAN><st1:address><u1:address><SPAN style="FONT-FAMILY: Calibri\; COLOR: black">20 Pleasant Street\,&nbsp\; Newburyport\, MA</SPAN></u1:address></st1:address></FONT><FONT size=4><SPAN style="FONT-FAMILY: Calibri\; COLOR: black"><BR>RSVP online or call&nbsp\; (978) 462-6680 x13</SPAN><SPAN style="FONT-FAMILY: Calibri\; COLOR: red"><o:p></o:p></SPAN></FONT></P><P></FONT></FONT></P></FONT><A href="http://www.josephswinterstcafe.com"></A>
LOCATION:Helene M.
UID:e.1189.1626
SEQUENCE:3
DTSTAMP:20260420T160452Z
URL:https://business.newburyportchamber.org/events/details/ribbon-cutting-helene-m-10-07-2010-1626
END:VEVENT

END:VCALENDAR
