BEGIN:VCALENDAR
VERSION:2.0
PRODID:-//ChamberMaster//Event Calendar 2.0//EN
METHOD:PUBLISH
X-PUBLISHED-TTL:P3D
REFRESH-INTERVAL:P3D
CALSCALE:GREGORIAN
BEGIN:VEVENT
DTSTART:20111117T210000Z
DTEND:20111117T220000Z
X-MICROSOFT-CDO-ALLDAYEVENT:FALSE
SUMMARY:Ribbon Cutting & Grand Opening - Smitten
DESCRIPTION:Ribbon Cutting & Grand Opening at Smitten\n\n\n\nJoin us as we welcome and celebrate one of our newest businesses in town. Located on Inn Street in downtown Newburyport\, Smitten offers women's clothing and accessories.\n\n\n\nMayor Donna Holaday and the Chamber of Commerce will be cutting the ribbon!\n\n\n\nhttp://www.sosmitten.net
X-ALT-DESC;FMTTYPE=text/html:<span style="font-size: 14px"><span style="color: #ff0000"><strong>Ribbon Cutting &amp\; Grand Opening at Smitten</strong></span><br />\n<br />\n<span style="font-size: 12px">Join us as we welcome and celebrate one of our&nbsp\;newest businesses in town. Located on Inn Street in downtown Newburyport\, Smitten offers women&#39\;s clothing and accessories.<br />\n<br />\nMayor Donna Holaday and the Chamber of Commerce will be cutting the ribbon!</span></span><br />\n<br />\n<a href="http://www.sosmitten.net">http://www.sosmitten.net</a><span _fck_bookmark="1" style="display: none">&nbsp\;</span><br />\n<br />\n
LOCATION:Smitten 23 Inn Street Newburyport\, MA
UID:e.1189.2310
SEQUENCE:3
DTSTAMP:20260419T173842Z
URL:https://business.newburyportchamber.org/events/details/ribbon-cutting-grand-opening-smitten-11-17-2011-2310
END:VEVENT

END:VCALENDAR
