BEGIN:VCALENDAR
VERSION:2.0
PRODID:-//ChamberMaster//Event Calendar 2.0//EN
METHOD:PUBLISH
X-PUBLISHED-TTL:P3D
REFRESH-INTERVAL:P3D
CALSCALE:GREGORIAN
BEGIN:VEVENT
DTSTART:20100610T040000Z
DTEND:20100610T040000Z
X-MICROSOFT-CDO-ALLDAYEVENT:FALSE
SUMMARY:Ribbon Cutting - Garrison Inn
DESCRIPTION:The Garrison InnRibbon Cutting Ceremony\nThursday\, June 10Join fellow chamber members and Mayor Donna Holaday for a special Ribbon Cutting ceremony to celebrate the Grand Opening of Tea Noir at the Garrison Inn.\n\nLocation:\nBrown Square\, Newburyport\nRSVP online or call  (978) 462-6680 x13
X-ALT-DESC;FMTTYPE=text/html:<P><FONT color=#ff0000><STRONG><FONT color=#ff0000>The Garrison Inn</FONT></STRONG></P><P><FONT color=#000000>Ribbon Cutting Ceremony<BR>Thursday\, June 10</FONT></P><P><FONT color=#000000>Join fellow chamber members&nbsp\;and Mayor Donna Holaday for a special <FONT color=#000000>Ribbon Cutting ceremony</FONT> to celebrate the&nbsp\;Grand Opening of Tea Noir at the Garrison Inn.<BR></FONT><FONT color=#000000><BR></FONT><FONT color=#000000>Location:<BR></FONT><FONT color=#000000>Brown Square\, Newburyport</FONT><BR><FONT color=#000000>RSVP online or call&nbsp\; (978) 462-6680 x13</FONT></P></FONT><A href="http://www.josephswinterstcafe.com"></A>
LOCATION:Garrison Inn
UID:e.1189.1575
SEQUENCE:3
DTSTAMP:20260421T050543Z
URL:https://business.newburyportchamber.org/events/details/ribbon-cutting-garrison-inn-06-10-2010-1575
END:VEVENT

END:VCALENDAR
