BEGIN:VCALENDAR
VERSION:2.0
PRODID:-//ChamberMaster//Event Calendar 2.0//EN
METHOD:PUBLISH
X-PUBLISHED-TTL:P3D
REFRESH-INTERVAL:P3D
CALSCALE:GREGORIAN
BEGIN:VEVENT
DTSTART:20110714T200000Z
DTEND:20110714T210000Z
X-MICROSOFT-CDO-ALLDAYEVENT:FALSE
SUMMARY:Ribbon Cutting - EZ Pedaler of Newburyport and Friendesha Internet Cafe
DESCRIPTION:EZ Pedaler & Friendesha Internet Cafe\n\nRibbon Cutting Ceremony\n\nThursday\, July 14\, 2011 \n\n4:00pm\n\n\n\nJoin us for a special Ribbon Cutting ceremony to celebrate the Grand Opening of both Friendesha Internet Cafe and EZ Pedaler of Newburyport.  EZ Pedaler sells and rents electric and pedal bicycles. It's green and fun for everyone! Friendesha serves breakfast\, lunch\, great coffee and has free WIFI.\n\n\n\nConveniently located in the same building.\n\n40R Merrimac Street\, next door to the Chamber.\n\n\n\nRSVP online or call  (978) 462-6680 x13
X-ALT-DESC;FMTTYPE=text/html:&nbsp\;<br />\n<strong><span style="font-size: 14pt"><span style="color: red"><span style="font-family: calibri">EZ Pedaler &amp\; Friendesha Internet Cafe</span></span></span></strong><br />\n<span style="font-size: 14px"><span style="color: black"><span style="font-family: calibri">Ribbon Cutting Ceremony</span></span><br />\n<span style="color: black"><span style="font-family: calibri">Thursday\,&nbsp\;July 14\, 2011 </span></span><br />\n<span style="font-family: calibri">4:00pm</span><br />\n<br />\n<span style="font-family: calibri">Join us for a special <strong><span style="font-weight: normal"><span style="font-family: calibri">Ribbon Cutting</span></span></strong> ceremony to celebrate the&nbsp\;Grand Opening of both Friendesha Internet Cafe and <a datafld="0:0" href="http://www.ezpedalerofnewburyport.com " style="color: blue\; text-decoration: underline" target="_NewWindow" title="">EZ Pedaler of Newburyport.</a>&nbsp\; EZ Pedaler sells and rents electric and pedal bicycles. It&#39\;s green and fun for everyone!&nbsp\;Friendesha serves breakfast\, lunch\, great coffee and has free WIFI.</span><br />\n<br />\n<span style="font-family: calibri">Conveniently located in the same building.</span><br />\n<span style="color: black"><span style="font-family: calibri">40R Merrimac Street\, next door to the Chamber.</span></span><br />\n<br />\n<span style="color: black"><span style="font-family: calibri">RSVP online or call&nbsp\; (978) 462-6680 x13</span></span></span><br />\n&nbsp\;<br />\n
LOCATION:40R Merrimac Street downtown Newburport\, Next door to the Chamber office.
UID:e.1189.1951
SEQUENCE:3
DTSTAMP:20260420T002634Z
URL:https://business.newburyportchamber.org/events/details/ribbon-cutting-ez-pedaler-of-newburyport-and-friendesha-internet-cafe-07-14-2011-1951
END:VEVENT

END:VCALENDAR
