BEGIN:VCALENDAR
VERSION:2.0
PRODID:-//ChamberMaster//Event Calendar 2.0//EN
METHOD:PUBLISH
X-PUBLISHED-TTL:P3D
REFRESH-INTERVAL:P3D
CALSCALE:GREGORIAN
BEGIN:VEVENT
DTSTART:20110628T190000Z
DTEND:20110628T210000Z
X-MICROSOFT-CDO-ALLDAYEVENT:FALSE
SUMMARY:Ribbon Cutting - Essex County Greenbelt
DESCRIPTION:Essex County Greenbelt invites chamber members and the public to the grand opening ceremony of its newest public reservation. The 27-acre Hans Morris Reservation encompasses open fields\, woodlands\, beaver-created wetlands and old footpaths abutting the state-owned 1\,550-acre Martin Burns Wildlife Management Area. The regional non-profit land trust has created a small parking area and trail system to link the property with the adjacent state land\, allowing for public access and passive outdoor recreation.\n\n\n\nRSVP 978.462.6680 x13
X-ALT-DESC;FMTTYPE=text/html:<a href="http://www.ecga.org">Essex County Greenbelt</a> invites chamber members and the public to the grand opening ceremony of its newest public reservation. The 27-acre Hans Morris Reservation encompasses open fields\, woodlands\, beaver-created wetlands and old footpaths abutting the state-owned 1\,550-acre Martin Burns Wildlife Management Area. The regional non-profit land trust has created a small parking area and trail system to link the property with the adjacent state land\, allowing for public access and passive outdoor recreation.<br />\n<br />\nRSVP 978.462.6680 x13
LOCATION:Hans Morris Reservation 100 Middle Road Newbury\, MA
UID:e.1189.1888
SEQUENCE:3
DTSTAMP:20260420T020502Z
URL:https://business.newburyportchamber.org/events/details/ribbon-cutting-essex-county-greenbelt-06-28-2011-1888
END:VEVENT

END:VCALENDAR
