BEGIN:VCALENDAR
VERSION:2.0
PRODID:-//ChamberMaster//Event Calendar 2.0//EN
METHOD:PUBLISH
X-PUBLISHED-TTL:P3D
REFRESH-INTERVAL:P3D
CALSCALE:GREGORIAN
BEGIN:VEVENT
DTSTART:20100729T040000Z
DTEND:20100729T040000Z
X-MICROSOFT-CDO-ALLDAYEVENT:FALSE
SUMMARY:Ribbon Cutting - Eat Cake
DESCRIPTION:You are invited! Join us as we celebrate the grand opening and ribbon cutting of Eat Cake's new retail location! Enjoy delicious samplings of cupcakes and more!Thursday\, July 29 @ 4:00pm\n\nLocation:\n5 Prince Place\, Newburyport\nOff State Street between the library and Taffy's.RSVP online or call  (978) 462-6680 x13
X-ALT-DESC;FMTTYPE=text/html:<P><FONT size=4><FONT color=#0f0f0f face=Calibri><STRONG>You are invited! J</STRONG></FONT><FONT color=#0f0f0f face=Calibri><STRONG>oin&nbsp\;us&nbsp\;as&nbsp\;we celebrate the grand opening and ribbon cutting&nbsp\;of</STRONG>&nbsp\;<STRONG><A href="http://www.eatcakeonline.com       "><FONT color=#e80074>Eat Cake's</FONT></A></STRONG>&nbsp\;<STRONG>new retail location! </STRONG></FONT></FONT><STRONG><FONT color=#0f0f0f size=4 face=Calibri>Enjoy delicious samplings of cupcakes and more!</FONT></STRONG></P><P><FONT color=#0f0f0f><FONT size=4 face=Calibri>Thursday\, July 29 @ 4:00pm<BR><BR></FONT></FONT><FONT face=Calibri><FONT size=4><FONT color=#0f0f0f>Location:<BR></FONT><FONT color=#0f0f0f>5 Prince Place\, Newburyport<BR>Off State Street&nbsp\;between the library and Taffy's.</FONT></FONT></FONT></P><P><FONT color=#0f0f0f size=4 face=Calibri>RSVP online or call&nbsp\; (978) 462-6680 x13</FONT></P>
LOCATION:Eat Cake
UID:e.1189.1589
SEQUENCE:3
DTSTAMP:20260421T012728Z
URL:https://business.newburyportchamber.org/events/details/ribbon-cutting-eat-cake-07-29-2010-1589
END:VEVENT

END:VCALENDAR
