BEGIN:VCALENDAR
VERSION:2.0
PRODID:-//ChamberMaster//Event Calendar 2.0//EN
METHOD:PUBLISH
X-PUBLISHED-TTL:P3D
REFRESH-INTERVAL:P3D
CALSCALE:GREGORIAN
BEGIN:VEVENT
DTSTART:20110623T200000Z
DTEND:20110623T210000Z
X-MICROSOFT-CDO-ALLDAYEVENT:FALSE
SUMMARY:Ribbon Cutting - Dolan Financial Services
DESCRIPTION:Join Charlene Dolan and friends and members for a special Ribbon Cutting ceremony to celebrate the Grand Opening of Dolan Financial Services. This is the second office for Charlene. Her main office is located in downtown Amesbury.\n\n\n\nRSVP 978.462.6680 x13
X-ALT-DESC;FMTTYPE=text/html:Join Charlene Dolan and friends and members for a special Ribbon Cutting ceremony to celebrate the Grand Opening of <a href="http://DolanFinancialServices.com">Dolan Financial Services</a>. This is the second office for Charlene. Her main office is located in downtown Amesbury.<br />\n<br />\nRSVP 978.462.6680 x13
LOCATION:Dolan Financial Services 79 State Street Newburyport\, MA
UID:e.1189.1887
SEQUENCE:3
DTSTAMP:20260420T020035Z
URL:https://business.newburyportchamber.org/events/details/ribbon-cutting-dolan-financial-services-06-23-2011-1887
END:VEVENT

END:VCALENDAR
