BEGIN:VCALENDAR
VERSION:2.0
PRODID:-//ChamberMaster//Event Calendar 2.0//EN
METHOD:PUBLISH
X-PUBLISHED-TTL:P3D
REFRESH-INTERVAL:P3D
CALSCALE:GREGORIAN
BEGIN:VEVENT
DTSTART:20110629T200000Z
DTEND:20110629T210000Z
X-MICROSOFT-CDO-ALLDAYEVENT:FALSE
SUMMARY:Ribbon Cutting - Dogs In The Rrruff
DESCRIPTION:Join us for a special Ribbon Cutting ceremony to celebrate the Grand Opening of Dogs In The Rrruff. Dogs in the Rrruff offers dog & cat grooming\; dog training\; dog & cat CPR and first aid certification courses\; mini art gallery specializing in pet portraits.\n\n\n\nRSVP 978.462.6680 x13
X-ALT-DESC;FMTTYPE=text/html:Join us for a special Ribbon Cutting ceremony to celebrate the Grand Opening of <a href="http://www.DogsInTheRrruff.com">Dogs In The Rrruff</a>. Dogs in the Rrruff offers dog &amp\; cat grooming\; dog training\; dog &amp\; cat CPR and first aid certification courses\; mini art gallery specializing in pet portraits.<br />\n<br />\nRSVP 978.462.6680 x13
LOCATION:Dogs In The Rrruff 50 Pleasant Street Newburyport\, MA
UID:e.1189.1889
SEQUENCE:3
DTSTAMP:20260420T020359Z
URL:https://business.newburyportchamber.org/events/details/ribbon-cutting-dogs-in-the-rrruff-06-29-2011-1889
END:VEVENT

END:VCALENDAR
