BEGIN:VCALENDAR
VERSION:2.0
PRODID:-//ChamberMaster//Event Calendar 2.0//EN
METHOD:PUBLISH
X-PUBLISHED-TTL:P3D
REFRESH-INTERVAL:P3D
CALSCALE:GREGORIAN
BEGIN:VEVENT
DTSTART:20100218T050000Z
DTEND:20100218T050000Z
X-MICROSOFT-CDO-ALLDAYEVENT:FALSE
SUMMARY:Ribbon Cutting - Country Rehab TCU
DESCRIPTION:You're Invited!Thursday\, February 18\n4:00pmJoin us for a reception and ribbon cutting at the new Country Rehabilitation & Nursing Center celebrating the opening of their Transitional Care unit.  A reception and tours of the building and new practices will be conducted following the ribbon cutting with city and state elected officials.Enjoy cocktails\, hors d’oeurves and special chocolate martinis.Location:\nCountry Rehabilitation & Nursing Center  \n180 Low Street\, Newburyport
X-ALT-DESC;FMTTYPE=text/html:<FONT color=#ff0000><P><FONT color=#000000></FONT></P></FONT><FONT color=#ff0000 size=2 face=Courier><P><FONT size=3><B><SPAN style="FONT-STYLE: normal\; FONT-FAMILY: Calibri\; COLOR: red\; mso-bidi-font-style: italic">You're Invited!</SPAN></B></FONT></P><FONT size=3><SPAN style="FONT-FAMILY: Calibri\; COLOR: #0f0f0f"><P><FONT size=3><SPAN style="FONT-FAMILY: Calibri\; COLOR: blue">Thursday\, February 18<BR></SPAN><?xml:namespace prefix = st1 ns = "urn:schemas-microsoft-com:office:smarttags" /><st1:time Hour="16" Minute="0"><SPAN style="FONT-FAMILY: Calibri\; COLOR: blue">4:00pm</SPAN></st1:time></FONT><SPAN style="FONT-FAMILY: Calibri"><?xml:namespace prefix = o ns = "urn:schemas-microsoft-com:office:office" /><o:p></o:p></SPAN></P></SPAN></FONT><P><FONT size=3><SPAN style="FONT-FAMILY: Calibri\; COLOR: #0f0f0f">Join us for a </SPAN><st1:PersonName><SPAN style="FONT-FAMILY: Calibri\; COLOR: #0f0f0f">reception</SPAN></st1:PersonName><SPAN style="FONT-FAMILY: Calibri\; COLOR: #0f0f0f"> and ribbon cutting at the new </SPAN><st1:place><st1:PlaceName><SPAN style="FONT-FAMILY: Calibri\; COLOR: #0f0f0f">Country</SPAN></st1:PlaceName><SPAN style="FONT-FAMILY: Calibri\; COLOR: #0f0f0f"> </SPAN><st1:PlaceName><SPAN style="FONT-FAMILY: Calibri\; COLOR: #0f0f0f">Rehabilitation &amp\; Nursing</SPAN></st1:PlaceName><SPAN style="FONT-FAMILY: Calibri\; COLOR: #0f0f0f"> </SPAN><st1:PlaceType><SPAN style="FONT-FAMILY: Calibri\; COLOR: #0f0f0f">Center</SPAN></st1:PlaceType></st1:place><SPAN style="FONT-FAMILY: Calibri\; COLOR: #0f0f0f"> celebrating the opening of their Transitional Care unit.&nbsp\; A </SPAN><st1:PersonName><SPAN style="FONT-FAMILY: Calibri\; COLOR: #0f0f0f">reception</SPAN></st1:PersonName><SPAN style="FONT-FAMILY: Calibri\; COLOR: #0f0f0f"> and tours of the building and new practices will be conducted following the ribbon cutting with city and state elected officials.<o:p></o:p></SPAN></FONT></P><P><FONT size=3><SPAN style="FONT-FAMILY: Calibri\; COLOR: #0f0f0f">Enjoy cocktails\, hors d’oeurves and special chocolate martinis.</SPAN><SPAN style="FONT-FAMILY: Calibri"><o:p></o:p></SPAN></FONT></P><P><FONT size=3><SPAN style="FONT-FAMILY: Calibri\; COLOR: #0f0f0f">Location:<BR></SPAN><st1:place><st1:PlaceName><SPAN style="FONT-FAMILY: Calibri\; COLOR: #0f0f0f">Country</SPAN></st1:PlaceName><SPAN style="FONT-FAMILY: Calibri\; COLOR: #0f0f0f"> </SPAN><st1:PlaceName><SPAN style="FONT-FAMILY: Calibri\; COLOR: #0f0f0f">Rehabilitation &amp\; Nursing</SPAN></st1:PlaceName><SPAN style="FONT-FAMILY: Calibri\; COLOR: #0f0f0f"> </SPAN><st1:PlaceType><SPAN style="FONT-FAMILY: Calibri\; COLOR: #0f0f0f">Center</SPAN></st1:PlaceType></st1:place></FONT><FONT size=3><SPAN style="FONT-FAMILY: Calibri\; COLOR: #0f0f0f">&nbsp\;&nbsp\;<BR>180 </SPAN><st1:address><st1:Street><SPAN style="FONT-FAMILY: Calibri\; COLOR: #0f0f0f">Low Street</SPAN></st1:Street><SPAN style="FONT-FAMILY: Calibri\; COLOR: #0f0f0f">\,&nbsp\;</SPAN><st1:City><SPAN style="FONT-FAMILY: Calibri\; COLOR: #0f0f0f">Newburyport</SPAN></st1:City></st1:address><SPAN style="FONT-FAMILY: Calibri\; COLOR: blue"> </SPAN><SPAN style="FONT-FAMILY: Calibri"><o:p></o:p></SPAN></FONT></P><P><FONT size=3><st1:time Hour="16" Minute="0"><SPAN style="FONT-FAMILY: Calibri\; COLOR: blue"></SPAN></st1:time></FONT><SPAN style="FONT-FAMILY: Calibri"><o:p></o:p></SPAN>&nbsp\;</P><P></FONT></P>
LOCATION:Country Rehabilitation & Nursing Center
UID:e.1189.1485
SEQUENCE:3
DTSTAMP:20260421T114701Z
URL:https://business.newburyportchamber.org/events/details/ribbon-cutting-country-rehab-tcu-02-18-2010-1485
END:VEVENT

END:VCALENDAR
