BEGIN:VCALENDAR
VERSION:2.0
PRODID:-//ChamberMaster//Event Calendar 2.0//EN
METHOD:PUBLISH
X-PUBLISHED-TTL:P3D
REFRESH-INTERVAL:P3D
CALSCALE:GREGORIAN
BEGIN:VEVENT
DTSTART:20110614T200000Z
DTEND:20110614T210000Z
X-MICROSOFT-CDO-ALLDAYEVENT:FALSE
SUMMARY:Ribbon Cutting - Cost Cutters
DESCRIPTION:Join us for a special Ribbon Cutting ceremony to celebrate the Grand Opening of Cost Cutters\, Family Hair Salon.\n\n\n\nRSVP 978.462.6680 x13
X-ALT-DESC;FMTTYPE=text/html:Join us for a special Ribbon Cutting ceremony to celebrate the Grand Opening of Cost Cutters\, Family Hair Salon.<br />\n<br />\nRSVP 978.462.6680 x13
LOCATION:Cost Cutters\, Family Hair Salon 55 Storey Avenue Newburyport\, MA
UID:e.1189.1885
SEQUENCE:3
DTSTAMP:20260420T035216Z
URL:https://business.newburyportchamber.org/events/details/ribbon-cutting-cost-cutters-06-14-2011-1885
END:VEVENT

END:VCALENDAR
