BEGIN:VCALENDAR
VERSION:2.0
PRODID:-//ChamberMaster//Event Calendar 2.0//EN
METHOD:PUBLISH
X-PUBLISHED-TTL:P3D
REFRESH-INTERVAL:P3D
CALSCALE:GREGORIAN
BEGIN:VEVENT
DTSTART:20110621T200000Z
DTEND:20110621T210000Z
X-MICROSOFT-CDO-ALLDAYEVENT:FALSE
SUMMARY:Ribbon Cutting - Clay's
DESCRIPTION:Join us for a special Ribbon Cutting ceremony to celebrate the Grand Opening of Clays in Newburyport. A full service womens clothing store. We specialize in fun\, comfortable natural fiber clothing and a great selection of accessories..\n\n\n\nRSVP 978.462.6680 x13
X-ALT-DESC;FMTTYPE=text/html:Join us for a special Ribbon Cutting ceremony to celebrate the Grand Opening of Clays in Newburyport. A full service womens clothing store. We specialize in fun\, comfortable natural fiber clothing and a great selection of accessories..<br />\n<br />\nRSVP 978.462.6680 x13
LOCATION:Clay's 72 State Street Newburyport\, MA
UID:e.1189.1884
SEQUENCE:3
DTSTAMP:20260420T034758Z
URL:https://business.newburyportchamber.org/events/details/ribbon-cutting-clay-s-06-21-2011-1884
END:VEVENT

END:VCALENDAR
