BEGIN:VCALENDAR
VERSION:2.0
PRODID:-//ChamberMaster//Event Calendar 2.0//EN
METHOD:PUBLISH
X-PUBLISHED-TTL:P3D
REFRESH-INTERVAL:P3D
CALSCALE:GREGORIAN
BEGIN:VEVENT
DTSTART:20090917T040000Z
DTEND:20090917T040000Z
X-MICROSOFT-CDO-ALLDAYEVENT:FALSE
SUMMARY:Ribbon Cutting - Chococoa Baking Company
DESCRIPTION:Chococoa Baking CompanyRibbon Cutting Ceremony\nThursday\, September17\n4:00pmJoin fellow chamber members and Mayor John Moak for a special Ribbon Cutting ceremony to celebrate the Grand Opening of Chococoa Baking Company\n\nEnjoy delicious whoopie pie samplings!Location:\n38 Washington Street\, Newburyport\nNext door to Joseph's Winter Street Cafe\nRSVP online or call  (978) 462-6680 x13
X-ALT-DESC;FMTTYPE=text/html:<P><FONT color=#ff0000><STRONG><FONT color=#ff0000>Chococoa Baking Company</FONT></STRONG></P><P><FONT color=#000000>Ribbon Cutting Ceremony<BR>Thursday\,&nbsp\;September17<BR>4:00pm</FONT></P><P><FONT color=#000000>Join fellow chamber members&nbsp\;and Mayor John Moak&nbsp\;for a special <FONT color=#000000>Ribbon Cutting ceremony</FONT> to celebrate the&nbsp\;Grand Opening of Chococoa Baking Company<BR><BR>Enjoy delicious whoopie pie samplings!</FONT></P><P><FONT color=#000000>Location:<BR></FONT><FONT color=#000000>38 Washington&nbsp\;Street\, Newburyport<BR>Next door to Joseph's Winter Street Cafe</FONT><BR><FONT color=#000000>RSVP online or call&nbsp\; (978) 462-6680 x13</FONT></P></FONT><A href="http://www.josephswinterstcafe.com"></A>
LOCATION:Chococoa Baking Company
UID:e.1189.1291
SEQUENCE:3
DTSTAMP:20260421T181847Z
URL:https://business.newburyportchamber.org/events/details/ribbon-cutting-chococoa-baking-company-09-17-2009-1291
END:VEVENT

END:VCALENDAR
