BEGIN:VCALENDAR
VERSION:2.0
PRODID:-//ChamberMaster//Event Calendar 2.0//EN
METHOD:PUBLISH
X-PUBLISHED-TTL:P3D
REFRESH-INTERVAL:P3D
CALSCALE:GREGORIAN
BEGIN:VEVENT
DTSTART:20110217T050000Z
DTEND:20110217T050000Z
X-MICROSOFT-CDO-ALLDAYEVENT:FALSE
SUMMARY:Ribbon Cutting - Ceia Kitchen & Bar
DESCRIPTION:Ceia Kitchen & Bar         Ribbon Cutting Ceremony\nThursday\, February 17\, 20114:00pmJoin us for a special Ribbon Cutting ceremony to celebrate the Grand Opening of Ceia Kitchen & Bar in Newburyport.Location:\n25 State Street\nRSVP online or call  (978) 462-6680 x13
X-ALT-DESC;FMTTYPE=text/html:<FONT color=#ff0000><FONT color=#000000><FONT color=#ff0000><P><P class=MsoNormal style="MARGIN: 0in 0in 0pt"><SPAN style="FONT-SIZE: 14pt\; COLOR: red\; FONT-FAMILY: Calibri"><FONT color=#ff0000 size=5><STRONG>Ceia Kitchen &amp\; Bar&nbsp\;&nbsp\;&nbsp\;&nbsp\;&nbsp\;&nbsp\;&nbsp\;&nbsp\; </STRONG></FONT></SPAN></P><P><FONT size=4><SPAN style="COLOR: black\; FONT-FAMILY: Calibri">Ribbon Cutting Ceremony<BR></SPAN><?xml:namespace prefix = st1 ns = "urn:schemas-microsoft-com:office:smarttags" /><st1:date Month="9" Day="16" Year="2010"><SPAN style="COLOR: black\; FONT-FAMILY: Calibri"><?xml:namespace prefix = u1 /><u1:date Month="9" Day="16" Year="2010">Thursday\, February 17\, 2011</u1:date></SPAN></st1:date></FONT></P><P><FONT size=4><st1:date Month="9" Day="16" Year="2010"><SPAN style="COLOR: black\; FONT-FAMILY: Calibri"><u1:date Month="9" Day="16" Year="2010"></SPAN></u1:date></st1:date></FONT><st1:time Hour="16" Minute="0"><SPAN style="FONT-FAMILY: Calibri"><u1:time Hour="16" Minute="0"><FONT color=#000000 size=4>4:00pm</FONT></SPAN></u1:time></st1:time><SPAN style="FONT-FAMILY: Calibri"><?xml:namespace prefix = o ns = "urn:schemas-microsoft-com:office:office" /><o:p></o:p></SPAN></P><P><FONT size=4><FONT color=#000000><SPAN style="FONT-FAMILY: Calibri">Join us for a special <STRONG><SPAN style="FONT-WEIGHT: normal\; FONT-FAMILY: Calibri\; mso-bidi-font-weight: bold">Ribbon Cutting</SPAN></STRONG> ceremony to celebrate the&nbsp\;Grand Opening of Ceia Kitchen &amp\; Bar in Newburyport.</SPAN></FONT></FONT></P><P><FONT size=4><SPAN style="COLOR: black\; FONT-FAMILY: Calibri">Location:<BR></SPAN><st1:address><st1:Street><SPAN style="COLOR: black\; FONT-FAMILY: Calibri"><u1:address><u1:Street>25 State Street<BR></u1:Street></u1:address></SPAN></st1:Street></st1:address></FONT><FONT size=4><SPAN style="COLOR: black\; FONT-FAMILY: Calibri">RSVP online or call&nbsp\; (978) 462-6680 x13</SPAN><SPAN style="COLOR: red\; FONT-FAMILY: Calibri"><o:p></o:p></SPAN></FONT></P><P></FONT></FONT></P></FONT><A href="http://www.josephswinterstcafe.com"></A>
LOCATION:Ceia Kitchen & Bar
UID:e.1189.1778
SEQUENCE:3
DTSTAMP:20260420T091901Z
URL:https://business.newburyportchamber.org/events/details/ribbon-cutting-ceia-kitchen-bar-02-17-2011-1778
END:VEVENT

END:VCALENDAR
