BEGIN:VCALENDAR
VERSION:2.0
PRODID:-//ChamberMaster//Event Calendar 2.0//EN
METHOD:PUBLISH
X-PUBLISHED-TTL:P3D
REFRESH-INTERVAL:P3D
CALSCALE:GREGORIAN
BEGIN:VEVENT
DTSTART:20090624T040000Z
DTEND:20090624T040000Z
X-MICROSOFT-CDO-ALLDAYEVENT:FALSE
SUMMARY:Ribbon Cutting - Bucciarelli's Butcher Shop
DESCRIPTION:Bucciarelli's Butcher ShopRibbon Cutting Ceremony\nWednesday\, June 24\, 4pmYou're Invited!Join us for a special Ribbon Cutting ceremony to celebrate the Grand Opening of Bucciarelli's Butcher Shop. Introductions and welcoming remarks at 4pm\, followed by a special ribbon cutting with the Newburyport Chamber of Commerce.\n\nEnjoy samplings of delicious steak tips\, chicken and more!Location:\n147 Bridge Rd\, Salisbury\, MA  01952\nRSVP online or call  (978) 462-6680 x13
X-ALT-DESC;FMTTYPE=text/html:<P><FONT color=#ff0000><STRONG><FONT color=#ff0000>Bucciarelli's Butcher Shop</FONT></STRONG></P><P><STRONG><FONT color=#000000>Ribbon Cutting Ceremony<BR>Wednesday\, June 24\, 4pm</FONT></STRONG></P><P><STRONG><FONT color=#ff0000>You're Invited!</FONT></STRONG></P><P><STRONG><FONT color=#000000>Join us for a special <FONT color=#ff0000>Ribbon Cutting ceremony</FONT> to celebrate the&nbsp\;Grand Opening of Bucciarelli's Butcher Shop. Introductions and welcoming remarks at <FONT color=#ff0000>4pm\,</FONT> followed by a special ribbon cutting with the Newburyport Chamber of Commerce.<BR><BR>Enjoy samplings&nbsp\;of delicious steak tips\, chicken and more!</FONT></STRONG></P><P><STRONG><FONT color=#000000>Location:<BR></FONT>147 Bridge Rd\, Salisbury\, MA&nbsp\; 01952<BR></STRONG><STRONG><FONT color=#000000>RSVP online or call&nbsp\; (978) 462-6680 x13</FONT></STRONG></P></FONT><A href="http://www.josephswinterstcafe.com"></A>
LOCATION:Bucciarelli's Butcher Shop
UID:e.1189.1252
SEQUENCE:3
DTSTAMP:20260421T231925Z
URL:https://business.newburyportchamber.org/events/details/ribbon-cutting-bucciarelli-s-butcher-shop-06-24-2009-1252
END:VEVENT

END:VCALENDAR
