BEGIN:VCALENDAR
VERSION:2.0
PRODID:-//ChamberMaster//Event Calendar 2.0//EN
METHOD:PUBLISH
X-PUBLISHED-TTL:P3D
REFRESH-INTERVAL:P3D
CALSCALE:GREGORIAN
BEGIN:VEVENT
DTSTART:20101109T050000Z
DTEND:20101109T050000Z
X-MICROSOFT-CDO-ALLDAYEVENT:FALSE
SUMMARY:Ribbon Cutting - Black Duck
DESCRIPTION:You are invited! Join us as we celebrate the grand opening and ribbon cutting of The Black Duck Market & Deli's (formerly The White Hen Pantry) new location! Tuesday\, November 9th @ 4:00pm\n\nLocation:\n50 Water Street\,\nThe Tannery \nNewburyport\nRSVP online or call  (978) 462-6680 x13
X-ALT-DESC;FMTTYPE=text/html:<P><FONT size=4><FONT face=Calibri color=#0f0f0f><STRONG>You are invited! J</STRONG></FONT><FONT face=Calibri color=#0f0f0f><STRONG>oin&nbsp\;us&nbsp\;as&nbsp\;we celebrate the grand opening and ribbon cutting&nbsp\;of</STRONG>&nbsp\;<FONT color=#e80074><STRONG>The Black Duck Market &amp\; Deli's (</STRONG>formerly The White Hen Pantry<STRONG>) </STRONG></FONT><STRONG>new location!</STRONG> </FONT></FONT></P><P><FONT color=#0f0f0f><FONT face=Calibri size=4>Tuesday\, November 9th @ 4:00pm<BR><BR></FONT></FONT><FONT face=Calibri><FONT size=4><FONT color=#0f0f0f>Location:<BR></FONT><FONT color=#0f0f0f>50 Water Street</FONT></FONT></FONT><FONT face=Calibri><FONT size=4><FONT color=#0f0f0f>\,<BR>The Tannery&nbsp\;<BR>Newburyport<BR></P></FONT></FONT></FONT><FONT face=Calibri color=#0f0f0f size=4></FONT><P><FONT face=Calibri color=#0f0f0f size=4>RSVP online or call&nbsp\; (978) 462-6680 x13</FONT></P>
LOCATION:The Black Duck Market & Deli
UID:e.1189.1647
SEQUENCE:3
DTSTAMP:20260420T160712Z
URL:https://business.newburyportchamber.org/events/details/ribbon-cutting-black-duck-11-09-2010-1647
END:VEVENT

END:VCALENDAR
