BEGIN:VCALENDAR
VERSION:2.0
PRODID:-//ChamberMaster//Event Calendar 2.0//EN
METHOD:PUBLISH
X-PUBLISHED-TTL:P3D
REFRESH-INTERVAL:P3D
CALSCALE:GREGORIAN
BEGIN:VEVENT
DTSTART:20090902T040000Z
DTEND:20090902T040000Z
X-MICROSOFT-CDO-ALLDAYEVENT:FALSE
SUMMARY:Ribbon Cutting - Black Dog
DESCRIPTION:The Black DogRibbon Cutting Ceremony\nWednesday\, September 2Join fellow chamber members and Mayor John Moak for a special Ribbon Cutting ceremony to celebrate the Grand Opening of The Black Dog General Store.\n\nEnjoy delicious food samplings!Location:\n19 Water Street\, Newburyport\nRSVP online or call  (978) 462-6680 x13
X-ALT-DESC;FMTTYPE=text/html:<P><FONT color=#ff0000><STRONG><FONT color=#ff0000>The Black Dog</FONT></STRONG></P><P><FONT color=#000000>Ribbon Cutting Ceremony<BR>Wednesday\, September 2</FONT></P><P><FONT color=#000000>Join fellow chamber members&nbsp\;and Mayor John Moak&nbsp\;for a special <FONT color=#000000>Ribbon Cutting ceremony</FONT> to celebrate the&nbsp\;Grand Opening of The Black Dog General Store.<BR><BR>Enjoy delicious food samplings!</FONT><FONT color=#000000>Location:<BR></FONT><FONT color=#000000>19 Water&nbsp\;Street\, Newburyport</FONT><BR><FONT color=#000000>RSVP online or call&nbsp\; (978) 462-6680 x13</FONT></P></FONT><A href="http://www.josephswinterstcafe.com"></A>
LOCATION:The Black Dog
UID:e.1189.1285
SEQUENCE:3
DTSTAMP:20260421T182604Z
URL:https://business.newburyportchamber.org/events/details/ribbon-cutting-black-dog-09-02-2009-1285
END:VEVENT

END:VCALENDAR
