BEGIN:VCALENDAR
VERSION:2.0
PRODID:-//ChamberMaster//Event Calendar 2.0//EN
METHOD:PUBLISH
X-PUBLISHED-TTL:P3D
REFRESH-INTERVAL:P3D
CALSCALE:GREGORIAN
BEGIN:VEVENT
DTSTART:20110602T200000Z
DTEND:20110602T210000Z
X-MICROSOFT-CDO-ALLDAYEVENT:FALSE
SUMMARY:Ribbon Cutting - BC Essentials
DESCRIPTION:Join us for a special Ribbon Cutting ceremony to celebrate the Grand Opening of BC Essentials.\n\n\n\nRSVP 978.462.6680 x13
X-ALT-DESC;FMTTYPE=text/html:Join us for a special Ribbon Cutting ceremony to celebrate the Grand Opening of <a href="http://www.bcessentials.com">BC Essentials</a>.<br />\n<br />\nRSVP 978.462.6680 x13
LOCATION:BC Essentials 47 Pleasant Street Newburyport\, MA
UID:e.1189.1882
SEQUENCE:3
DTSTAMP:20260420T015843Z
URL:https://business.newburyportchamber.org/events/details/ribbon-cutting-bc-essentials-06-02-2011-1882
END:VEVENT

END:VCALENDAR
