BEGIN:VCALENDAR
VERSION:2.0
PRODID:-//ChamberMaster//Event Calendar 2.0//EN
METHOD:PUBLISH
X-PUBLISHED-TTL:P3D
REFRESH-INTERVAL:P3D
CALSCALE:GREGORIAN
BEGIN:VEVENT
DTSTART:20100506T040000Z
DTEND:20100506T040000Z
X-MICROSOFT-CDO-ALLDAYEVENT:FALSE
SUMMARY:Ribbon Cutting - Alden Merrell Fine Desserts
DESCRIPTION:Alden Merrell Fine Desserts - Retail StoreRibbon Cutting Ceremony\nThursday\, May 6\, 2010\n4:00pmJoin fellow Chamber Members and Mayor Donna Holaday for a special Customer Appreciation Day & Ribbon Cutting Ceremony. Leading up to the event they will have free giveaways\, samples\, a variety of items to purchase\, and an on-site broadcast by WNBP radio. Come on by the retail store and see its fresh new look and celebrate the return of their popular chocolate cake with cream cheese frosting that you\, their customers\, have been asking for.  Hope to see you there!                                                           \nLocation:\n4 Graf Road\, Newburyport\nRetail Store\nRSVP online or call  (978) 462-6680 x13
X-ALT-DESC;FMTTYPE=text/html:<P><FONT color=#ff0000><FONT color=#000000><FONT color=#ff0000><STRONG>Alden Merrell Fine</STRONG> <FONT color=#ff0000><STRONG>Desserts</STRONG></FONT></FONT></FONT><FONT color=#ff0000><STRONG> - Retail Store</STRONG></FONT></P><P><FONT color=#000000><STRONG>Ribbon Cutting Ceremony</STRONG><BR>Thursday\, May 6\, 2010<BR>4:00pm</FONT></P><P><FONT color=#000000>Join fellow Chamber Members&nbsp\;and Mayor Donna Holaday for a special <B style="mso-bidi-font-weight: normal">Customer Appreciation Day &amp\; Ribbon Cutting Ceremony.&nbsp\;</B>Leading up to the event&nbsp\;they will have free giveaways\, samples\, a variety of items to purchase\, and an on-site broadcast by WNBP radio. Come on by the retail store and see its fresh new look and celebrate the return of&nbsp\;their popular chocolate cake with cream cheese frosting that you\,&nbsp\;their customers\, have been asking for.<SPAN style="mso-spacerun: yes">&nbsp\; </SPAN>Hope to see you there!</P><P style="MARGIN: 0in 0in 0pt" class=MsoNormal><SPAN style="mso-spacerun: yes">&nbsp\;&nbsp\;&nbsp\;&nbsp\;&nbsp\;&nbsp\;&nbsp\;&nbsp\;</SPAN><SPAN style="mso-spacerun: yes">&nbsp\;&nbsp\;&nbsp\;&nbsp\;&nbsp\;&nbsp\;&nbsp\;&nbsp\;&nbsp\;&nbsp\;&nbsp\;&nbsp\;&nbsp\;&nbsp\;&nbsp\;&nbsp\;&nbsp\;&nbsp\;&nbsp\;&nbsp\;&nbsp\;&nbsp\;&nbsp\;&nbsp\;&nbsp\;&nbsp\;&nbsp\;&nbsp\;&nbsp\;&nbsp\;&nbsp\;&nbsp\;&nbsp\;&nbsp\;&nbsp\;&nbsp\;&nbsp\;&nbsp\;&nbsp\;&nbsp\;&nbsp\;&nbsp\;&nbsp\;&nbsp\;&nbsp\;&nbsp\;&nbsp\;&nbsp\;&nbsp\;&nbsp\;&nbsp\;</SPAN><BR></FONT><FONT color=#000000>Location:<BR></FONT><FONT color=#000000>4 Graf Road\, Newburyport<BR>Retail Store</FONT><BR><FONT color=#000000>RSVP online or call&nbsp\; (978) 462-6680 x13</FONT></P></FONT><A href="http://www.josephswinterstcafe.com"></A>
LOCATION:Alden Merrell Fine Desserts
UID:e.1189.1539
SEQUENCE:3
DTSTAMP:20260421T051806Z
URL:https://business.newburyportchamber.org/events/details/ribbon-cutting-alden-merrell-fine-desserts-05-06-2010-1539
END:VEVENT

END:VCALENDAR
