BEGIN:VCALENDAR
VERSION:2.0
PRODID:-//ChamberMaster//Event Calendar 2.0//EN
METHOD:PUBLISH
X-PUBLISHED-TTL:P3D
REFRESH-INTERVAL:P3D
CALSCALE:GREGORIAN
BEGIN:VEVENT
DTSTART:20100603T040000Z
DTEND:20100603T040000Z
X-MICROSOFT-CDO-ALLDAYEVENT:FALSE
SUMMARY:Ribbon Cutting - A Shore Thing
DESCRIPTION:A Shore Thing Ribbon Cutting Ceremony\nThursday\, June 3Join fellow chamber members and Mayor Donna Holaday for a special Ribbon Cutting ceremony to celebrate the Grand Opening of A Shore Thing.\n\nLocation:\n1 Titcomb  Street\, Newburyport\nRSVP online or call  (978) 462-6680 x13
X-ALT-DESC;FMTTYPE=text/html:<P><FONT color=#ff0000><STRONG><FONT color=#ff0000>A Shore Thing </FONT></STRONG></P><P><FONT color=#000000>Ribbon Cutting Ceremony<BR>Thursday\, June 3</FONT></P><P><FONT color=#000000>Join fellow chamber members&nbsp\;and Mayor Donna Holaday for a special <FONT color=#000000>Ribbon Cutting ceremony</FONT> to celebrate the&nbsp\;Grand Opening of A Shore Thing.<BR></FONT><FONT color=#000000><BR></FONT><FONT color=#000000>Location:<BR></FONT><FONT color=#000000>1 Titcomb&nbsp\;&nbsp\;Street\, Newburyport</FONT><BR><FONT color=#000000>RSVP online or call&nbsp\; (978) 462-6680 x13</FONT></P></FONT><A href="http://www.josephswinterstcafe.com"></A>
LOCATION:A Shore Thing
UID:e.1189.1574
SEQUENCE:3
DTSTAMP:20260421T032300Z
URL:https://business.newburyportchamber.org/events/details/ribbon-cutting-a-shore-thing-06-03-2010-1574
END:VEVENT

END:VCALENDAR
