BEGIN:VCALENDAR
VERSION:2.0
PRODID:-//ChamberMaster//Event Calendar 2.0//EN
METHOD:PUBLISH
X-PUBLISHED-TTL:P3D
REFRESH-INTERVAL:P3D
CALSCALE:GREGORIAN
BEGIN:VEVENT
DTSTART:20111102T213000Z
DTEND:20111102T230000Z
X-MICROSOFT-CDO-ALLDAYEVENT:FALSE
SUMMARY:Resident Advisory Council Meeting
DESCRIPTION:Monthly meeting of the Resident Advisory Council. Email all RSVP's to Ann Ormond   aormond@newburyportchamber.org
X-ALT-DESC;FMTTYPE=text/html:<DIV style="FONT-FAMILY: Arial">Monthly meeting of the Resident Advisory Council.</DIV><DIV style="FONT-FAMILY: Arial">&nbsp\;</DIV><DIV style="FONT-FAMILY: Arial">Email all RSVP's to Ann Ormond&nbsp\;&nbsp\; <A href="mailto:aormond@newburyportchamber.org">aormond@newburyportchamber.org</A></DIV><DIV style="FONT-FAMILY: Arial">&nbsp\;</DIV>
LOCATION:Gtr. Newburyport Chamber of Commerce & Industry
UID:e.1189.1690
SEQUENCE:3
DTSTAMP:20260419T173838Z
URL:https://business.newburyportchamber.org/events/details/resident-advisory-council-meeting-11-02-2011-1690
END:VEVENT

END:VCALENDAR
