BEGIN:VCALENDAR
VERSION:2.0
PRODID:-//ChamberMaster//Event Calendar 2.0//EN
METHOD:PUBLISH
X-PUBLISHED-TTL:P3D
REFRESH-INTERVAL:P3D
CALSCALE:GREGORIAN
BEGIN:VEVENT
DTSTART:20110614T140000Z
DTEND:20110614T230000Z
X-MICROSOFT-CDO-ALLDAYEVENT:FALSE
SUMMARY:Relax for a Cause!
DESCRIPTION:Donate $75 and enjoy a 1-hour Swedish massage at The Sacred Tree Massage and Reiki. 100% of the proceeds will benefit the exemplary employment and day services for people with disabilties at Opportunity Works.
X-ALT-DESC;FMTTYPE=text/html:Donate $75 and enjoy a 1-hour Swedish massage at The Sacred Tree Massage and Reiki. 100% of the proceeds will benefit the exemplary employment and day services for people with disabilties at Opportunity Works.
LOCATION:The Sacred Tree Tannery Mill #1\, 50 Water Street Newburyport www.thesacredtree.net 978-462-1890
UID:e.1189.1869
SEQUENCE:3
DTSTAMP:20260420T015843Z
URL:https://business.newburyportchamber.org/events/details/relax-for-a-cause-06-14-2011-1869
END:VEVENT

END:VCALENDAR
