BEGIN:VCALENDAR
VERSION:2.0
PRODID:-//ChamberMaster//Event Calendar 2.0//EN
METHOD:PUBLISH
X-PUBLISHED-TTL:P3D
REFRESH-INTERVAL:P3D
CALSCALE:GREGORIAN
BEGIN:VEVENT
DTSTART:20090802T040000Z
DTEND:20090802T040000Z
X-MICROSOFT-CDO-ALLDAYEVENT:FALSE
SUMMARY:Reggae Sunset Cruise
DESCRIPTION:Top off Yankee Homecoming Weekend with a fun bunch of people\, a great band\, and the friendliest fishing crew on all of Plum Island!  Local favorites "Rhyging" will be the featured Reggae Band.  Tickets are $20 in advance available at Captain's Fishing\, all major credit cards accepted.  Must be 21+ with valid ID. Alcohol avialable for purchase only onboard. And Thank You! $1 of evry ticket will go to Risingminds.org a local non-profit that works in partnership with Los Patojos to privide education & nourishment for over 100 children in Guatemala. Rain date: Sunday\, August 9th 5:30-8:30pm (no refunds)
X-ALT-DESC;FMTTYPE=text/html:<DIV>Top off Yankee Homecoming Weekend with a fun bunch of people\, a great band\, and the friendliest fishing crew on all of Plum Island!&nbsp\; Local favorites "Rhyging" will be the featured Reggae Band.&nbsp\; Tickets are $20 in advance available at Captain's Fishing\, all major credit cards accepted.&nbsp\; Must be 21+ with valid ID. Alcohol avialable for purchase only onboard.</DIV><DIV>&nbsp\;</DIV><DIV>And Thank You! $1 of evry ticket will go to Risingminds.org a local non-profit that works in partnership with Los Patojos to privide education &amp\; nourishment for over 100 children in Guatemala.</DIV><DIV>&nbsp\;</DIV><DIV>Rain date: Sunday\, August 9th 5:30-8:30pm (no refunds)</DIV>
LOCATION:Captain's Fishing
UID:e.1189.1259
SEQUENCE:3
DTSTAMP:20260421T202047Z
URL:https://business.newburyportchamber.org/events/details/reggae-sunset-cruise-08-02-2009-1259
END:VEVENT

END:VCALENDAR
