BEGIN:VCALENDAR
VERSION:2.0
PRODID:-//ChamberMaster//Event Calendar 2.0//EN
METHOD:PUBLISH
X-PUBLISHED-TTL:P3D
REFRESH-INTERVAL:P3D
CALSCALE:GREGORIAN
BEGIN:VEVENT
DTSTART:20110813T230000Z
DTEND:20110814T010000Z
X-MICROSOFT-CDO-ALLDAYEVENT:FALSE
SUMMARY:Rebecca Parris
DESCRIPTION:Boston's First Lady of Jazz fills the house annually. Order at: maudslayartscenter.org
X-ALT-DESC;FMTTYPE=text/html:Boston&#39\;s First Lady of Jazz fills the house annually. Order at: maudslayartscenter.org
LOCATION:Maudslay Arts Center 95 Curzon Mill Rd.\, Maudslay State Park Newburyport
UID:e.1189.1994
SEQUENCE:3
DTSTAMP:20260419T223354Z
URL:https://business.newburyportchamber.org/events/details/rebecca-parris-08-13-2011-1994
END:VEVENT

END:VCALENDAR
