BEGIN:VCALENDAR
VERSION:2.0
PRODID:-//ChamberMaster//Event Calendar 2.0//EN
METHOD:PUBLISH
X-PUBLISHED-TTL:P3D
REFRESH-INTERVAL:P3D
CALSCALE:GREGORIAN
BEGIN:VEVENT
DTSTART:20111106T000000Z
DTEND:20111106T020000Z
X-MICROSOFT-CDO-ALLDAYEVENT:FALSE
SUMMARY:Random Acts at Firehouse Center for the Arts
DESCRIPTION:ONE NIGHT ONLY!\n\n\n\nBack by popular demand for our ninth year! "Random Acts" is an evening of ten-minute plays written\, cast\, rehearsed\, and performed as staged readings in just 24 hours! Can they pull it off? Join in the fun as 14 writers + 24 actors + 7 directors + 2 producers and plenty of angels present 7 plays from page to the stage in just\n\none day!\n\n\n\nFirst off\, we need plays. So the playwrights begin their adventure Friday night when they gather to be randomly paired (names drawn from a hat) and sent off to create 7 short plays (10 minutes long) in 12 hours. The finished plays are handed off to directors and actors early the next morning to be randomly cast\, then rehearsed until the curtain goes up that very evening. It's been called "thespians under the gun" and a "theatrical thrill ride." Random Acts is a true community bonding event\, involving more than 50 people from in and around the area and beyond.\n\n\n\nA community event in our 9th year.\n\n\n\nThis event is presented by Writers and Actors\, INK.
X-ALT-DESC;FMTTYPE=text/html:<strong>ONE NIGHT ONLY!</strong><br />\n<br />\nBack by popular demand for our ninth year! <strong>&ldquo\;Random Acts&rdquo\;</strong> is an evening of ten-minute plays written\, cast\, rehearsed\, and performed as staged readings in just 24 hours! Can they pull it off? Join in the fun as 14 writers + 24 actors + 7 directors + 2 producers and plenty of angels present 7 plays from page to the stage in just<br />\none day!<br />\n<br />\nFirst off\, we need plays. So the playwrights begin their adventure Friday night when they gather to be randomly paired (names drawn from a hat) and sent off to create 7 short plays (10 minutes long) in 12 hours. The finished plays are handed off to directors and actors early the next morning to be randomly cast\, then rehearsed until the curtain goes up that very evening. It&rsquo\;s been called &ldquo\;thespians under the gun&rdquo\; and a &ldquo\;theatrical thrill ride.&rdquo\; Random Acts is a true community bonding event\, involving more than 50 people from in and around the area and beyond.<br />\n<br />\nA community event in our 9th year.<br />\n<br />\nThis event is presented by <strong>Writers and Actors\, INK.</strong>
LOCATION:Firehouse Center for the Arts Market Square Newburyport MA 01950
UID:e.1189.2276
SEQUENCE:3
DTSTAMP:20260419T173031Z
URL:https://business.newburyportchamber.org/events/details/random-acts-at-firehouse-center-for-the-arts-11-05-2011-2276
END:VEVENT

END:VCALENDAR
