BEGIN:VCALENDAR
VERSION:2.0
PRODID:-//ChamberMaster//Event Calendar 2.0//EN
METHOD:PUBLISH
X-PUBLISHED-TTL:P3D
REFRESH-INTERVAL:P3D
CALSCALE:GREGORIAN
BEGIN:VEVENT
DTSTART:20231215T000000Z
DTEND:20231215T020000Z
X-MICROSOFT-CDO-ALLDAYEVENT:FALSE
SUMMARY:Railside Live Music Series at Metzy’s!
DESCRIPTION:Metzy's hosts LIVE\, Local music EVERY Thursday night!\n\n\n\nFrom 7pm-9pm you'll find rotating bands and singers every week.\n\n\n\nMake sure to check us out on Facebook Events to see who is playing every week!\n\n\n\nFree for our guests!\n\n\n\nJoin us at the Cantina\, enjoy good food\, great drinks\, and support live music in your community!
X-ALT-DESC;FMTTYPE=text/html:Metzy&rsquo\;s hosts LIVE\, Local music EVERY Thursday night!<br />\n<br />\nFrom 7pm-9pm you&rsquo\;ll find rotating bands and singers every week.<br />\n<br />\nMake sure to check us out on Facebook Events to see who is playing every week!<br />\n<br />\nFree for our guests!<br />\n<br />\nJoin us at the Cantina\, enjoy good food\, great drinks\, and support live music in your community!
LOCATION:Metzys Cantina 5 Boston Way Newburyport Ma Newburyport MBTA Train Station
UID:e.1189.126782
SEQUENCE:3
DTSTAMP:20260424T172958Z
URL:https://business.newburyportchamber.org/events/details/railside-live-music-series-at-metzy-s-12-14-2023-126782
END:VEVENT

END:VCALENDAR
