BEGIN:VCALENDAR
VERSION:2.0
PRODID:-//ChamberMaster//Event Calendar 2.0//EN
METHOD:PUBLISH
X-PUBLISHED-TTL:P3D
REFRESH-INTERVAL:P3D
CALSCALE:GREGORIAN
BEGIN:VEVENT
DTSTART:20111116T230000Z
DTEND:20111116T233000Z
X-MICROSOFT-CDO-ALLDAYEVENT:FALSE
SUMMARY:Public Meeting Inn St. Lighting & Brick Turrett Restoration Project
DESCRIPTION:The purpose of this informational meeting is to present to the community planned improvements to the Inn Street area of Downtown Newburyport which will include lighting improvements and redesign of existing brick turret stairways surrounding the pedestrian plaza.  This project is a joint effort between the City of Newburyport (Donna D. Holaday\, Mayor) and the Downtown Group. A portion of this project has been generously supported by the City of Newburyport Community Preservation Fund
X-ALT-DESC;FMTTYPE=text/html:The purpose of this informational meeting is to present to the community planned improvements to the Inn Street area of Downtown Newburyport which will include lighting improvements and redesign of existing brick turret stairways surrounding the pedestrian plaza.&nbsp\; This project is a joint effort between the City of Newburyport (Donna D. Holaday\, Mayor) and the Downtown Group. A portion of this project has been generously supported by the City of Newburyport Community Preservation Fund
LOCATION:Newburyport High School - Library 241 High St Newburyport\, MA
UID:e.1189.2381
SEQUENCE:3
DTSTAMP:20260419T173842Z
URL:https://business.newburyportchamber.org/events/details/public-meeting-inn-st-lighting-brick-turrett-restoration-project-11-16-2011-2381
END:VEVENT

END:VCALENDAR
