BEGIN:VCALENDAR
VERSION:2.0
PRODID:-//ChamberMaster//Event Calendar 2.0//EN
METHOD:PUBLISH
X-PUBLISHED-TTL:P3D
REFRESH-INTERVAL:P3D
CALSCALE:GREGORIAN
BEGIN:VEVENT
DTSTART;VALUE=DATE:20110818
DTEND;VALUE=DATE:20110819
TRANSP:TRANSPARENT
X-MICROSOFT-CDO-ALLDAYEVENT:TRUE
SUMMARY:Pre-Concert Lecture with Chuck Speicher
DESCRIPTION:PRE-CONCERT LECTURE with Chuck Speicher
X-ALT-DESC;FMTTYPE=text/html:<p class="schedule-title">\n	PRE-CONCERT LECTURE <em>with Chuck Speicher</em></p>\n
LOCATION:St. Paul's Church 166 High Street\, Newburyport
UID:e.1189.2071
SEQUENCE:3
DTSTAMP:20260419T223742Z
URL:https://business.newburyportchamber.org/events/details/pre-concert-lecture-with-chuck-speicher-08-18-2011-2071
END:VEVENT

END:VCALENDAR
