BEGIN:VCALENDAR
VERSION:2.0
PRODID:-//ChamberMaster//Event Calendar 2.0//EN
METHOD:PUBLISH
X-PUBLISHED-TTL:P3D
REFRESH-INTERVAL:P3D
CALSCALE:GREGORIAN
BEGIN:VEVENT
DTSTART:20111112T200000Z
DTEND:20111112T210000Z
X-MICROSOFT-CDO-ALLDAYEVENT:FALSE
SUMMARY:Poetry Reading
DESCRIPTION:Powow River Poets presents a poetry reading by Len Krisak & Rhina P. Espaillat. Free.
X-ALT-DESC;FMTTYPE=text/html:Powow River Poets presents a poetry reading by Len Krisak &amp\; Rhina P. Espaillat. Free.
LOCATION:Jabberwocky Books The Tannery Newburyport
UID:e.1189.2193
SEQUENCE:3
DTSTAMP:20260419T172512Z
URL:https://business.newburyportchamber.org/events/details/poetry-reading-11-12-2011-2193
END:VEVENT

END:VCALENDAR
