BEGIN:VCALENDAR
VERSION:2.0
PRODID:-//ChamberMaster//Event Calendar 2.0//EN
METHOD:PUBLISH
X-PUBLISHED-TTL:P3D
REFRESH-INTERVAL:P3D
CALSCALE:GREGORIAN
BEGIN:VEVENT
DTSTART:20110910T190000Z
DTEND:20110910T200000Z
X-MICROSOFT-CDO-ALLDAYEVENT:FALSE
SUMMARY:Poetry Reading
DESCRIPTION:Powow River Poets presents a poetry reading by David Davis & Catherine Chandler. Free.
X-ALT-DESC;FMTTYPE=text/html:Powow River Poets presents a poetry reading by David Davis &amp\; Catherine Chandler. Free.
LOCATION:Jabberwocky Books The Tannery Newburyport
UID:e.1189.2192
SEQUENCE:3
DTSTAMP:20260419T225442Z
URL:https://business.newburyportchamber.org/events/details/poetry-reading-09-10-2011-2192
END:VEVENT

END:VCALENDAR
