BEGIN:VCALENDAR
VERSION:2.0
PRODID:-//ChamberMaster//Event Calendar 2.0//EN
METHOD:PUBLISH
X-PUBLISHED-TTL:P3D
REFRESH-INTERVAL:P3D
CALSCALE:GREGORIAN
BEGIN:VEVENT
DTSTART:20100227T050000Z
DTEND:20100227T050000Z
X-MICROSOFT-CDO-ALLDAYEVENT:FALSE
SUMMARY:Peter Boie - Magic for the Non-Believer
DESCRIPTION:Peter Boie\, the self-proclaimed Magician for Non-Believers\, had humble beginnings at the age of eleven when he stumbled across a magic book at his local library.  Since that time\, he has been practicing\, creating and honing his craft over thousands of performances developing his unique style of magic ...magic for non-believers.  That may sound confusing.  No it has nothing to do whether you believe in God or not\, and no heâ€™s not trying to make you believe in real magic.  Being the Magician forNon-Believers is about â€œCreating an atmosphere where you stop thinking whether itâ€™s real or not\, and you just enjoy it\,â€ says Peter.  A philosophy that has proven very successful\, entertaining\,and has made him a favorite on college campuses and other venues around the country.\n\nHe has performed for such celebrities as Neil Young\, Jonathan Kraft (President of the New England Patriots)\, the New England Patriots Cheerleaders (yes he loves his job)\, and Troy Brown (also from the Patriots\,a trend?)  He is hired routinely by companies such as Oracle and LL Bean to entertain at their events\, and college campuses around the country.\nThis event is presented by the Firehouse.\nTickets: $18Adults â€¢ $16 Students/Srs/Members
X-ALT-DESC;FMTTYPE=text/html:Peter Boie\, the self-proclaimed Magician for Non-Believers\, had humble beginnings at the age of eleven when he stumbled across a magic book at his local library.  Since that time\, he has been practicing\, creating and honing his craft over thousands of performances developing his unique style of magic ...magic for non-believers.  That may sound confusing.  No it has nothing to do whether you believe in God or not\, and no heâ€™s not trying to make you believe in real magic.  Being the Magician forNon-Believers is about â€œCreating an atmosphere where you stop thinking whether itâ€™s real or not\, and you just enjoy it\,â€ says Peter.  A philosophy that has proven very successful\, entertaining\,and has made him a favorite on college campuses and other venues around the country.\n\nHe has performed for such celebrities as Neil Young\, Jonathan Kraft (President of the New England Patriots)\, the New England Patriots Cheerleaders (yes he loves his job)\, and Troy Brown (also from the Patriots\,a trend?)  He is hired routinely by companies such as Oracle and LL Bean to entertain at their events\, and college campuses around the country.\nThis event is presented by the Firehouse.\nTickets: $18Adults â€¢ $16 Students/Srs/Members
LOCATION:Firehouse Center for the Arts
UID:e.1189.1414
SEQUENCE:3
DTSTAMP:20260421T100409Z
URL:https://business.newburyportchamber.org/events/details/peter-boie-magic-for-the-non-believer-02-27-2010-1414
END:VEVENT

END:VCALENDAR
