BEGIN:VCALENDAR
VERSION:2.0
PRODID:-//ChamberMaster//Event Calendar 2.0//EN
METHOD:PUBLISH
X-PUBLISHED-TTL:P3D
REFRESH-INTERVAL:P3D
CALSCALE:GREGORIAN
BEGIN:VEVENT
DTSTART:20090715T040000Z
DTEND:20090715T040000Z
X-MICROSOFT-CDO-ALLDAYEVENT:FALSE
SUMMARY:Panel Discussion - American Recovery and Reinvestment Act
DESCRIPTION:The American Recovery & Reinvestment Act (ARRA)\nHow you and other local businesses can access these federal funds\n Sponsored by TD Banknorth Panel Discussion:Join us and learn about the ARRA legislation recently passed by Congress and what it means to you and your business. Who is eligible for funding? What type of funds are available and how can you access them? Panelists:\nLisa Gonzales Welch\, US Small Business AdministrationJeff Simon\, Governor Deval Patrick's appointee as Director of the MA Economic Recovery Infrastruture program. 7:45am Coffee & Registration8:00am - Presentation begins promptly Location: \nStriper's Grille\n175 Bridge Road\, Salisbury  You must pre-register.  Limited space available! Member: Free AdmissionNon Members: $20
X-ALT-DESC;FMTTYPE=text/html:<DIV><P class=MsoNormal><FONT color=#0f0f0f></FONT><P class=MsoNormal><FONT face="Times New Roman" color=#0f0f0f><SPAN style="FONT-SIZE: 12pt"></SPAN></FONT></P><FONT face=Arial><FONT size=2><FONT color=#ff0000 size=3><P class=MsoNormal style="MARGIN: 0in 0in 0pt"><SPAN style="FONT-SIZE: 10pt\; FONT-FAMILY: Arial"><FONT size=3><STRONG>The American Recovery &amp\; Reinvestment Act (ARRA)<BR><FONT color=#ff0000>How you and other local businesses can access these federal funds</FONT></STRONG><BR>&nbsp\;</P><P class=MsoNormal style="MARGIN: 0in 0in 0pt"><SPAN style="FONT-SIZE: 10pt\; FONT-FAMILY: Arial"><FONT color=#008000 size=3><STRONG>Sp</STRONG></FONT></SPAN><SPAN style="FONT-SIZE: 10pt\; FONT-FAMILY: Arial"><FONT color=#008000 size=3><STRONG>onsored by TD Banknorth</STRONG></FONT></SPAN></P><P class=MsoNormal style="MARGIN: 0in 0in 0pt"><SPAN style="FONT-SIZE: 10pt\; FONT-FAMILY: Arial"></SPAN></FONT></SPAN><SPAN style="FONT-SIZE: 10pt\; FONT-FAMILY: Arial"></SPAN><SPAN style="FONT-SIZE: 10pt\; FONT-FAMILY: Arial"><FONT color=#000000></FONT></SPAN>&nbsp\;</P><P class=MsoNormal style="MARGIN: 0in 0in 0pt"><SPAN style="FONT-SIZE: 10pt\; FONT-FAMILY: Arial"><FONT color=#000000><STRONG>Panel Discussion:</STRONG></FONT></SPAN></P><P class=MsoNormal style="MARGIN: 0in 0in 0pt"><SPAN style="FONT-SIZE: 10pt\; FONT-FAMILY: Arial"><FONT color=#000000>Join us and learn about the ARRA legislation recently passed by Congress and what it means to you and your business.&nbsp\;Who is eligible for funding? What type of&nbsp\;funds are available and how can you access them?</FONT></SPAN></P><P class=MsoNormal style="MARGIN: 0in 0in 0pt"><SPAN style="FONT-SIZE: 10pt\; FONT-FAMILY: Arial"><FONT color=#000000></FONT></SPAN>&nbsp\;</P><P class=MsoNormal style="MARGIN: 0in 0in 0pt"><SPAN style="FONT-SIZE: 10pt\; FONT-FAMILY: Arial"><FONT color=#000000><STRONG>Panelists:</STRONG><BR>Lisa Gonzales Welch\, US Small Business Administration</FONT></SPAN></P><P class=MsoNormal style="MARGIN: 0in 0in 0pt"><SPAN style="FONT-SIZE: 10pt\; FONT-FAMILY: Arial"><FONT color=#000000>Jeff Simon\, Governor Deval Patrick's appointee as Director of the&nbsp\;MA Economic Recovery Infrastruture program.</FONT></SPAN></P><P class=MsoNormal style="MARGIN: 0in 0in 0pt"><SPAN style="FONT-SIZE: 10pt\; FONT-FAMILY: Arial"><FONT color=#000000></FONT></SPAN>&nbsp\;</P><P class=MsoNormal style="MARGIN: 0in 0in 0pt"><FONT color=#000000><?xml:namespace prefix = st1 ns = "urn:schemas-microsoft-com:office:smarttags" /><st1:time Minute="45" Hour="7"><SPAN style="FONT-SIZE: 10pt\; FONT-FAMILY: Arial">7:45am Coffee &amp\; Registration</SPAN></st1:time></FONT></P><P class=MsoNormal style="MARGIN: 0in 0in 0pt"><FONT color=#000000><st1:time Minute="45" Hour="7"><SPAN style="FONT-SIZE: 10pt\; FONT-FAMILY: Arial">8:00am - Presentation begins promptly</SPAN></st1:time></FONT></P><P class=MsoNormal style="MARGIN: 0in 0in 0pt"><FONT color=#000000><st1:time Minute="45" Hour="7"><SPAN style="FONT-SIZE: 10pt\; FONT-FAMILY: Arial"></SPAN></st1:time></FONT>&nbsp\;</P><P class=MsoNormal style="MARGIN: 0in 0in 0pt"></FONT></FONT></FONT><FONT face=Arial><FONT size=2><FONT color=#ff0000 size=3><SPAN style="FONT-SIZE: 10pt\; FONT-FAMILY: Arial"><FONT color=#000000><STRONG>Location:</STRONG> <BR></FONT></SPAN><SPAN style="FONT-SIZE: 10pt\; FONT-FAMILY: Arial"><FONT color=#000000>Striper's Grille<BR></FONT></SPAN><SPAN style="FONT-SIZE: 10pt\; FONT-FAMILY: Arial"><FONT color=#000000>175 Bridge Road\, Salisbury</FONT></SPAN><SPAN style="FONT-SIZE: 10pt\; FONT-FAMILY: Arial"><FONT color=#000000>&nbsp\;</FONT></SPAN></FONT></FONT></FONT></P><P class=MsoNormal style="MARGIN: 0in 0in 0pt"><FONT face=Arial><FONT size=2><FONT color=#0000ff size=3><SPAN style="FONT-SIZE: 10pt\; FONT-FAMILY: Arial"><STRONG><EM></EM></STRONG></SPAN></FONT></FONT></FONT>&nbsp\;</P><P class=MsoNormal style="MARGIN: 0in 0in 0pt"><FONT face=Arial><FONT size=2><FONT color=#0000ff size=3><SPAN style="FONT-SIZE: 10pt\; FONT-FAMILY: Arial"><STRONG><EM>You must pre-register.&nbsp\; Limited space available!</EM></STRONG></SPAN></FONT></FONT></FONT></P><P class=MsoNormal style="MARGIN: 0in 0in 0pt"><FONT face=Arial><FONT size=2><FONT color=#ff0000 size=3><SPAN style="FONT-SIZE: 10pt\; FONT-FAMILY: Arial"><FONT color=#000000></FONT></SPAN>&nbsp\;</P></DIV><DIV><P class=MsoNormal style="MARGIN: 0in 0in 0pt"><SPAN style="FONT-SIZE: 10pt\; FONT-FAMILY: Arial"><?xml:namespace prefix = o ns = "urn:schemas-microsoft-com:office:office" /><o:p></o:p></SPAN></P><P class=MsoNormal style="MARGIN: 0in 0in 0pt"><STRONG><FONT color=#000000><st1:City><st1:place><I style="mso-bidi-font-style: normal"><SPAN style="FONT-SIZE: 10pt\; FONT-FAMILY: Arial">Member: Free Admission</SPAN></I></st1:place></st1:City></FONT></STRONG></P><P class=MsoNormal style="MARGIN: 0in 0in 0pt"><STRONG><FONT color=#000000><st1:City><st1:place><I style="mso-bidi-font-style: normal"><SPAN style="FONT-SIZE: 10pt\; FONT-FAMILY: Arial">Non Members: $20</SPAN></I></st1:place></st1:City></FONT></STRONG></P><P class=MsoNormal style="MARGIN: 0in 0in 0pt"><STRONG><FONT color=#000000><st1:City><st1:place><I style="mso-bidi-font-style: normal"><SPAN style="FONT-SIZE: 10pt\; FONT-FAMILY: Arial"></SPAN></I></st1:place></st1:City></FONT></STRONG>&nbsp\;</P><P class=MsoNormal style="MARGIN: 0in 0in 0pt"><SPAN style="FONT-SIZE: 10pt\; FONT-FAMILY: Arial"></SPAN></FONT></FONT></FONT>&nbsp\;</P></DIV>
LOCATION:Striper's Grille
UID:e.1189.1239
SEQUENCE:3
DTSTAMP:20260421T215655Z
URL:https://business.newburyportchamber.org/events/details/panel-discussion-american-recovery-and-reinvestment-act-07-15-2009-1239
END:VEVENT

END:VCALENDAR
