BEGIN:VCALENDAR
VERSION:2.0
PRODID:-//ChamberMaster//Event Calendar 2.0//EN
METHOD:PUBLISH
X-PUBLISHED-TTL:P3D
REFRESH-INTERVAL:P3D
CALSCALE:GREGORIAN
BEGIN:VEVENT
DTSTART:20221001T170000Z
DTEND:20221001T210000Z
X-MICROSOFT-CDO-ALLDAYEVENT:FALSE
SUMMARY:Oysterfest In The Port
DESCRIPTION:Join us for the 2nd Annual:\n\nOysterfest in The Port\n\n \n\nDate: Saturday\, October 1\, 2022\n\nTime: 1:00-5:00PM\n\n\n\nLocation: The Tannery Parking Lot behind Newburyport FISH at 75 Water Street\, Newburyport MA\n\n \n\nOysterfest In The Port will bring together\n\noyster farmers from across New England to highlight delicious local oyster\n\nsources while bringing awareness to oyster farming.\n\n \n\nPaired with craft brews (and a special brew just for our event!) from\n\nRiverwalk Brewing this event is sure to be the best shucking time ever!\n\n \n\nDon't miss your chance to get tickets today! What are you shucking waiting for?\n\n \n\nQuestions? Email events@newburyportfish.com for more information.\n\n \n\nFollow us on instagram to learn all the latest on this event and more!
X-ALT-DESC;FMTTYPE=text/html:<div>Join us for the 2nd Annual:<br />\n<strong>Oysterfest in The Port</strong></div>\n\n<div>&nbsp\;</div>\n\n<div>Date: Saturday\, October 1\, 2022</div>\n\n<div>Time: 1:00-5:00PM<br />\n<br />\nLocation: The Tannery Parking Lot behind Newburyport FISH at 75 Water Street\, Newburyport MA</div>\n\n<div>&nbsp\;</div>\n\n<div>Oysterfest In The Port will bring together</div>\n\n<div>oyster farmers from across New England to highlight delicious local oyster</div>\n\n<div>sources while bringing awareness to oyster farming.<br />\n&nbsp\;</div>\n\n<div>Paired with craft brews (and a special brew just for our event!) from</div>\n\n<div><strong>Riverwalk Brewing</strong> this event is sure to be the best shucking time ever!</div>\n\n<div>&nbsp\;</div>\n\n<div>Don&#39\;t miss your chance to get tickets today! What are you shucking waiting for?</div>\n\n<div>&nbsp\;</div>\n\n<div>Questions? Email <a href="mailto:events@newburyportfish.com" style="color: rgb(17\, 85\, 204)\;" target="_blank">events@newburyportfish.com</a> for more information.</div>\n\n<div>&nbsp\;</div>\n\n<div>Follow us on instagram to learn all the latest on this event and more!</div>\n
LOCATION:The Tannery Parking Lot behind Newburyport FISH at 75 Water Street\, Newburyport MA
UID:e.1189.85087
SEQUENCE:3
DTSTAMP:20260425T175632Z
URL:https://business.newburyportchamber.org/events/details/oysterfest-in-the-port-10-01-2022-85087
END:VEVENT

END:VCALENDAR
