BEGIN:VCALENDAR
VERSION:2.0
PRODID:-//ChamberMaster//Event Calendar 2.0//EN
METHOD:PUBLISH
X-PUBLISHED-TTL:P3D
REFRESH-INTERVAL:P3D
CALSCALE:GREGORIAN
BEGIN:VEVENT
DTSTART;VALUE=DATE:20110819
DTEND;VALUE=DATE:20110820
TRANSP:TRANSPARENT
X-MICROSOFT-CDO-ALLDAYEVENT:TRUE
SUMMARY:Open Rehershal
DESCRIPTION:OPEN REHEARSAL\n\n	10:00 AM-1:00 PM\n\n	OPEN REHEARSAL with Kile Smith\, Composer-in-Residence\n\n	2:30   4:00 PM\n\n	The Festival Quartet will work on the World Premiere of "Plain Truths"
X-ALT-DESC;FMTTYPE=text/html:<p class="schedule-title">\n	OPEN REHEARSAL<br />\n	10:00 AM-1:00 PM</p>\n<p class="schedule-title">\n	OPEN REHEARSAL <em>with Kile Smith\, Composer-in-Residence</em><br />\n	2:30 &ndash\; 4:00 PM</p>\n<p class="schedule-work">\n	The Festival Quartet will work on the World Premiere of &quot\;Plain Truths&quot\;</p>\n
LOCATION:St. Paul's Church 166 High Street\, Newburyport
UID:e.1189.2073
SEQUENCE:3
DTSTAMP:20260419T223344Z
URL:https://business.newburyportchamber.org/events/details/open-rehershal-08-19-2011-2073
END:VEVENT

END:VCALENDAR
