BEGIN:VCALENDAR
VERSION:2.0
PRODID:-//ChamberMaster//Event Calendar 2.0//EN
METHOD:PUBLISH
X-PUBLISHED-TTL:P3D
REFRESH-INTERVAL:P3D
CALSCALE:GREGORIAN
BEGIN:VEVENT
DTSTART;VALUE=DATE:20110816
DTEND;VALUE=DATE:20110817
TRANSP:TRANSPARENT
X-MICROSOFT-CDO-ALLDAYEVENT:TRUE
SUMMARY:Open Rehersal - Newburyport Chamber Music Festival
DESCRIPTION:OPEN REHEARSAL
X-ALT-DESC;FMTTYPE=text/html:<p class="schedule-title">\n	OPEN REHEARSAL</p>\n
LOCATION:The Maritime Museum 25 Water Street\, Newburyport
UID:e.1189.2064
SEQUENCE:3
DTSTAMP:20260419T230243Z
URL:https://business.newburyportchamber.org/events/details/open-rehersal-newburyport-chamber-music-festival-08-16-2011-2064
END:VEVENT

END:VCALENDAR
