BEGIN:VCALENDAR
VERSION:2.0
PRODID:-//ChamberMaster//Event Calendar 2.0//EN
METHOD:PUBLISH
X-PUBLISHED-TTL:P3D
REFRESH-INTERVAL:P3D
CALSCALE:GREGORIAN
BEGIN:VEVENT
DTSTART;VALUE=DATE:20110817
DTEND;VALUE=DATE:20110818
TRANSP:TRANSPARENT
X-MICROSOFT-CDO-ALLDAYEVENT:TRUE
SUMMARY:Open Rehersal
DESCRIPTION:OPEN REHEARSAL
X-ALT-DESC;FMTTYPE=text/html:<p class="schedule-title">\n	OPEN REHEARSAL<br />\n	&nbsp\;</p>\n
LOCATION:Newburyport Public Library 94 State Street\, Newburyport
UID:e.1189.2067
SEQUENCE:3
DTSTAMP:20260419T223300Z
URL:https://business.newburyportchamber.org/events/details/open-rehersal-08-17-2011-2067
END:VEVENT

END:VCALENDAR
