BEGIN:VCALENDAR
VERSION:2.0
PRODID:-//ChamberMaster//Event Calendar 2.0//EN
METHOD:PUBLISH
X-PUBLISHED-TTL:P3D
REFRESH-INTERVAL:P3D
CALSCALE:GREGORIAN
BEGIN:VEVENT
DTSTART:20110823T210000Z
DTEND:20110824T000000Z
X-MICROSOFT-CDO-ALLDAYEVENT:FALSE
SUMMARY:Open House - Willowdale Estate
DESCRIPTION:Come and imagine what a Mansion Wedding can be! We also host social events\, corporate outings\, holiday parties and much more!You are invited to our Open House to see the Estate and enjoy a historic tour.\n\n\n\nBring your family and your wedding party to enjoy a delightful evening at elegant Willowdale Estate\, surrounded by the picture perfect Bradley Palmer State Park.\n\n\n\nPre-register now to receive a favor bag and special vendor discounts: info@WillowdaleEstate.com
X-ALT-DESC;FMTTYPE=text/html:Come and imagine what a Mansion Wedding can be! We also host social events\, corporate outings\, holiday parties and much more!You are invited to our Open House to see the Estate and enjoy a historic tour.<br />\n<br />\nBring your family and your wedding party to enjoy a delightful evening at elegant Willowdale Estate\, surrounded by the picture perfect Bradley Palmer State Park.<br />\n<br />\nPre-register now to receive a favor bag and special vendor discounts: <a href="mailto:info@WillowdaleEstate.com">info@WillowdaleEstate.com</a> 
LOCATION:Willowdale Estate 24 Asbury Street Topsfield
UID:e.1189.2011
SEQUENCE:3
DTSTAMP:20260419T223545Z
URL:https://business.newburyportchamber.org/events/details/open-house-willowdale-estate-08-23-2011
END:VEVENT

END:VCALENDAR
