BEGIN:VCALENDAR
VERSION:2.0
PRODID:-//ChamberMaster//Event Calendar 2.0//EN
METHOD:PUBLISH
X-PUBLISHED-TTL:P3D
REFRESH-INTERVAL:P3D
CALSCALE:GREGORIAN
BEGIN:VEVENT
DTSTART:20111201T210000Z
DTEND:20111202T000000Z
X-MICROSOFT-CDO-ALLDAYEVENT:FALSE
SUMMARY:Open House & Ribbon Cutting at Our Secret Garden
DESCRIPTION:Open House & Ribbon Cutting at Our Secret Garden \n\n\n\nOur Secret Garden indoor | outdoor Nursery and Preschool invites you to an open house to tour this new school's location and network with fellow chamber members. Come meet Ellie Dawson\, OSG's Director and Lead Teacher\, and other members of the School's Board. OSG is an all-inclusive school providing children 2 to 5 years of age with a unique\, nature-based curriculum and learning experience.\n\n \n\nJoin us for a wine and cheese celebration as we officially celebrate the opening of Our Secret Garden on Thursday\, December 1\, 2011\, from 4pm to 7pm.\n\n \n\nA Ribbon Cutting will be held at 4pm with Newburyport Mayor Donna Holaday\, Newbury officials\, and Chamber representatives.\n\n \n\nParking available in First Parish Church of Newbury parking lot and on the street.
X-ALT-DESC;FMTTYPE=text/html:<span style="font-size: 14px"><strong><span style="color: #ff0000">Open House &amp\; Ribbon Cutting at Our Secret Garden<span style="font-size: 12pt"><span style="font-family: times new roman\,serif"> </span></span></span></strong></span><br />\n<br />\n<span style="color: #493d25"><span style="font-family: arial\,sans-serif">Our Secret Garden indoor | outdoor Nursery and Preschool invites you to an open house to tour this new school&rsquo\;s location and network with fellow chamber members. Come meet Ellie Dawson\, OSG&rsquo\;s Director and Lead Teacher\, and other members of the School&rsquo\;s Board. OSG is an all-inclusive school providing children 2 to 5 years of age with a unique\, nature-based curriculum and learning experience.</span></span><br />\n&nbsp\;<br />\n<span style="color: #493d25"><span style="font-family: arial\,sans-serif">Join us for a wine and cheese celebration as we officially celebrate the opening of Our Secret Garden on&nbsp\;<strong>Thursday\,</strong>&nbsp\;<strong>December 1\, 2011</strong>\, from 4pm to 7pm.</span></span><br />\n&nbsp\;<br />\n<span style="color: #493d25"><span style="font-family: arial\,sans-serif">A Ribbon Cutting will be held at 4pm with Newburyport Mayor Donna Holaday\, Newbury officials\, and Chamber representatives.</span></span><br />\n&nbsp\;<br />\n<strong><span style="color: #680072"><span style="font-family: arial\,sans-serif">Parking available in First Parish Church of Newbury parking lot and on the s</span></span></strong><strong><span style="color: #680072"><span style="font-family: arial\,sans-serif">treet.</span></span></strong><br />\n
LOCATION:First Parish Church Newbury 20 High Road\, Rt 1A Newbury\, MA 01951
UID:e.1189.2366
SEQUENCE:3
DTSTAMP:20260419T174236Z
URL:https://business.newburyportchamber.org/events/details/open-house-ribbon-cutting-at-our-secret-garden-12-01-2011-2366
END:VEVENT

END:VCALENDAR
