BEGIN:VCALENDAR
VERSION:2.0
PRODID:-//ChamberMaster//Event Calendar 2.0//EN
METHOD:PUBLISH
X-PUBLISHED-TTL:P3D
REFRESH-INTERVAL:P3D
CALSCALE:GREGORIAN
BEGIN:VEVENT
DTSTART:20111103T190000Z
DTEND:20111103T230000Z
X-MICROSOFT-CDO-ALLDAYEVENT:FALSE
SUMMARY:Open House - Boston North Technology Park
DESCRIPTION:Open House & Ribbon Cutting\n\n\n\nBoston North Properties\, the real estate division of SPS New England will be hosting an open house/ribbon cutting event open to both members and the public\, to celebrate and showcase all the new space available for lease.\n\n\n\nThe Capolupos have invested millions of dollars in renovations to the Boston North Technology Park at 110 Haverhill Road in Amesbury.\n\n\n	Don't miss this exceptional opportunity to explore this multi-million dollar renovation as we welcome the "new" facility into the community with a Ribbon Cutting with State Representative Michael Costello\, Mayor Thatcher Kezer and other local officials.\n\n	Enjoy delicious appetizers from Capri Seaside Grill & Seaglass Restaurant\, tour the facility\, network with local businesses and neighbors.  Enter to win great prizes\, including an Ipad\, Boston Bruins Tickets and gift certificates to Blue Ocean Music Hall\, Seaglass or Capri Seaside Grill.
X-ALT-DESC;FMTTYPE=text/html:<span style="font-size: 12px"><span style="font-family: arial\,sans-serif"><span style="font-size: 14px"><span style="color: #ff0000"><strong>Open House &amp\; Ribbon Cutting</strong></span></span><br />\n<br />\nBoston North Properties\, the real estate division of SPS New England&nbsp\;will be hosting an open house/ribbon cutting event open to both members and the public\, to celebrate and showcase&nbsp\;all the new space available for lease.<br />\n<br />\nThe Capolupos have invested millions of dollars in renovations to the <span style="color: #ff0000"><strong>Boston North Technology Park</strong></span> at 110 Haverhill Road in Amesbury.</span></span><br />\n<p>\n	<span style="font-size: 12px"><span style="font-family: arial\,sans-serif">Don&#39\;t miss this exceptional opportunity to explore this multi-million dollar renovation as we welcome the &quot\;new&quot\; facility into the community with a Ribbon Cutting with State Representative Michael Costello\, Mayor Thatcher Kezer and other local officials.</span></span></p>\n<p>\n	<span style="font-size: 12px"><span style="font-family: arial\,sans-serif">Enjoy delicious appetizers from Capri Seaside Grill &amp\; Seaglass Restaurant\, tour the facility\, network with local businesses and neighbors.&nbsp\; Enter to win great prizes\, including an Ipad\, Boston Bruins Tickets and gift certificates to Blue Ocean Music Hall\, Seaglass or Capri Seaside Grill.</span></span></p>\n
LOCATION:Boston North Technology Park\, 110 Haverhill Rd. Amesbury
UID:e.1189.2353
SEQUENCE:3
DTSTAMP:20260419T173632Z
URL:https://business.newburyportchamber.org/events/details/open-house-boston-north-technology-park-11-03-2011-2353
END:VEVENT

END:VCALENDAR
